BEGIN:VCALENDAR
VERSION:2.0
PRODID:-//Events | FID-Recht//NONSGML Events//EN
CALSCALE:GREGORIAN
X-ORIGINAL-URL:https://events.intrecht.de/termine/
X-WR-CALDESC:Events | FID-Recht - Events
BEGIN:VEVENT
UID:20220715T2008Z-1657915731.8716-EO-7345-1@172.16.200.151
STATUS:CONFIRMED
DTSTAMP:20260426T005434Z
CREATED:20220714T111426Z
LAST-MODIFIED:20220714T111426Z
DTSTART;VALUE=DATE:20220822
DTEND;VALUE=DATE:20220822
SUMMARY: Global Environmental Justice and Its Limits – Complexities of Time
  and Space (2nd Annual Conference of the Network for Global Justice and the
  Environmental Humanities) (CfP)
DESCRIPTION: 3.-5.11.2022\, Aarhus/Online (Frist für Einreichungen: 22.8.20
 22) Global Environmental Justice and Its Limits: Complexities of Time and S
 pace | H-Soz-Kult. Kommunikation und Fachinformation für die Geschichtswiss
 enschaften | Geschichte im Netz | History in the web (hsozkult.de)  
X-ALT-DESC;FMTTYPE=text/html: <p>3.-5.11.2022\, Aarhus/Online (Frist für Ei
 nreichungen: 22.8.2022)</p><p><a href="https://www.hsozkult.de/event/id/eve
 nt-128485">Global Environmental Justice and Its Limits: Complexities of Tim
 e and Space | H-Soz-Kult. Kommunikation und Fachinformation für die Geschic
 htswissenschaften | Geschichte im Netz | History in the web (hsozkult.de)</
 a></p><p> </p><p>[av_button label='iCal-Export' link='./feed/eo-events' lin
 k_target='' size='small' position='center' label_display='' title_attr='' i
 con_select='yes' icon='ue85b' font='entypo-fontello' color='custom' custom_
 bg='#b5123e' custom_font='#ffffff' av_uid='' id='' custom_class='' admin_pr
 eview_bg='']</p>
CATEGORIES:Europäisches / Internationales Recht,Recht interdisziplinär
LOCATION:Online
GEO:0.000000;0.000000
ORGANIZER;CN="ViFa-Recht":MAILTO:vifa-recht@sbb.spk-berlin.de
URL;VALUE=URI:https://events.intrecht.de/termine/termin/global-environmenta
 l-justice-and-its-limits-complexities-of-time-and-space-2nd-annual-conferen
 ce-of-the-network-for-global-justice-and-the-environmental-humanities-cfp/
END:VEVENT
BEGIN:VTIMEZONE
TZID:Europe/Berlin
BEGIN:DAYLIGHT
TZOFFSETFROM:+0100
TZOFFSETTO:+0200
DTSTART:20220327T010000
TZNAME:CEST
END:DAYLIGHT
END:VTIMEZONE
END:VCALENDAR
