BEGIN:VCALENDAR
VERSION:2.0
PRODID:-//Events | FID-Recht//NONSGML Events//EN
CALSCALE:GREGORIAN
X-ORIGINAL-URL:https://events.intrecht.de/termine/
X-WR-CALDESC:Events | FID-Recht - Events
BEGIN:VEVENT
UID:20200603T1418Z-1591193923.3362-EO-587-1@172.16.200.141
STATUS:CONFIRMED
DTSTAMP:20260425T132326Z
CREATED:20230308T120531Z
LAST-MODIFIED:20230308T120531Z
DTSTART;VALUE=DATE:20231207
DTEND;VALUE=DATE:20231209
SUMMARY: Global Data Law Part III: Comparative Data Law (Konferenz)
DESCRIPTION: 7.-8.12.2023 / München (Frist für Einreichungen: 31.5.2023) Cf
 P: GLOBAL DATA LAW CONFERENCE SERIES (mpg.de)
X-ALT-DESC;FMTTYPE=text/html: <p>7.-8.12.2023 / München <strong>(Frist für 
 Einreichungen: 31.5.2023)</strong></p><p><a href="https://www.ip.mpg.de/fil
 eadmin/ipmpg/content/aktuelles/FREDI_MPIIC_Conference_Global_Data_Law_III_2
 023_Call_for_Papers.pdf">CfP: GLOBAL DATA LAW CONFERENCE SERIES (mpg.de)</a
 ></p><p>[av_button label='iCal-Export' link='./feed/eo-events' link_target=
 '' size='small' position='center' label_display='' title_attr='' icon_selec
 t='yes' icon='ue85b' font='entypo-fontello' color='custom' custom_bg='#b512
 3e' custom_font='#ffffff' av_uid='' id='' custom_class='' admin_preview_bg=
 '']</p>
CATEGORIES:Europäisches / Internationales Recht
LOCATION:Inland
GEO:0.000000;0.000000
ORGANIZER;CN="ViFa-Recht":MAILTO:vifa-recht@sbb.spk-berlin.de
URL;VALUE=URI:https://events.intrecht.de/termine/termin/global-data-law-par
 t-iii-comparative-data-law-konferenz/
END:VEVENT
BEGIN:VTIMEZONE
TZID:Europe/Berlin
BEGIN:STANDARD
TZOFFSETFROM:+0200
TZOFFSETTO:+0100
DTSTART:20231029T010000
TZNAME:CET
END:STANDARD
END:VTIMEZONE
END:VCALENDAR
