BEGIN:VCALENDAR
VERSION:2.0
PRODID:-//Events | FID-Recht//NONSGML Events//EN
CALSCALE:GREGORIAN
X-ORIGINAL-URL:https://events.intrecht.de/termine/
X-WR-CALDESC:Events | FID-Recht - Events
BEGIN:VEVENT
UID:20200603T1418Z-1591193923.3362-EO-587-1@172.16.200.141
STATUS:CONFIRMED
DTSTAMP:20260425T182948Z
CREATED:20230613T135252Z
LAST-MODIFIED:20230613T135252Z
DTSTART;VALUE=DATE:20231116
DTEND;VALUE=DATE:20231118
SUMMARY: Global Constitutionalism and Supranational Adjudicative Bodies: Gl
 obal South Experiences vis-à-vis Hegemony (Online Seminar)
DESCRIPTION: 16.-17.11.2023 / Online (Frist für Einreichungen: 21.8.2023) h
 ttps://www.jus.uio.no/smr/english/research/current-affairs/2023/call-for-pa
 per-global-constitutionalism.html
X-ALT-DESC;FMTTYPE=text/html: <p>16.-17.11.2023 / Online <strong>(Frist für
  Einreichungen: 21.8.2023)</strong></p><p><a href="https://www.jus.uio.no/s
 mr/english/research/current-affairs/2023/call-for-paper-global-constitution
 alism.html">https://www.jus.uio.no/smr/english/research/current-affairs/202
 3/call-for-paper-global-constitutionalism.html</a></p><p>[av_button label='
 iCal-Export' link='./feed/eo-events' link_target='' size='small' position='
 center' label_display='' title_attr='' icon_select='yes' icon='ue85b' font=
 'entypo-fontello' color='custom' custom_bg='#b5123e' custom_font='#ffffff' 
 av_uid='' id='' custom_class='' admin_preview_bg='']</p>
CATEGORIES:Recht interdisziplinär
LOCATION:Online
GEO:0.000000;0.000000
ORGANIZER;CN="ViFa-Recht":MAILTO:vifa-recht@sbb.spk-berlin.de
URL;VALUE=URI:https://events.intrecht.de/termine/termin/global-constitution
 alism-and-supranational-adjudicative-bodies-global-south-experiences-vis-a-
 vis-hegemony-online-seminar/
END:VEVENT
BEGIN:VTIMEZONE
TZID:Europe/Berlin
BEGIN:STANDARD
TZOFFSETFROM:+0200
TZOFFSETTO:+0100
DTSTART:20231029T010000
TZNAME:CET
END:STANDARD
END:VTIMEZONE
END:VCALENDAR
