BEGIN:VCALENDAR
VERSION:2.0
PRODID:-//Events | FID-Recht//NONSGML Events//EN
CALSCALE:GREGORIAN
X-ORIGINAL-URL:https://events.intrecht.de/termine/
X-WR-CALDESC:Events | FID-Recht - Events
BEGIN:VEVENT
UID:20210112T0352Z-1610423565.377-EO-2527-1@172.16.200.141
STATUS:CONFIRMED
DTSTAMP:20260421T115434Z
CREATED:20201230T172020Z
LAST-MODIFIED:20201230T172020Z
DTSTART;VALUE=DATE:20210128
DTEND;VALUE=DATE:20210128
SUMMARY: Global Animal Law (Teaching Session mit Anne Peters) (Online-Semin
 ar)
DESCRIPTION: 28.1.2021\, Online (Bewerbungsfrist: 24.1.2021) Global Animal 
 Law | Max Planck Law (mpg.de)  
X-ALT-DESC;FMTTYPE=text/html: <p>28.1.2021\, Online (Bewerbungsfrist: 24.1.
 2021)</p><p><a href="https://law.mpg.de/events/2021-01-28-teaching-session-
 global-animal-law/">Global Animal Law | Max Planck Law (mpg.de)</a></p><p> 
 </p><p>[av_button label='iCal-Export' link='./feed/eo-events' link_target='
 ' size='small' position='center' label_display='' title_attr='' icon_select
 ='yes' icon='ue85b' font='entypo-fontello' color='custom' custom_bg='#b5123
 e' custom_font='#ffffff' av_uid='' id='' custom_class='' admin_preview_bg='
 ']</p>
CATEGORIES:Europäisches / Internationales Recht
LOCATION:Online
GEO:0.000000;0.000000
ORGANIZER;CN="ViFa-Recht":MAILTO:vifa-recht@sbb.spk-berlin.de
URL;VALUE=URI:https://events.intrecht.de/termine/termin/global-animal-law-t
 eaching-session-mit-anne-peters-online-seminar/
END:VEVENT
BEGIN:VTIMEZONE
TZID:Europe/Berlin
BEGIN:STANDARD
TZOFFSETFROM:+0200
TZOFFSETTO:+0100
DTSTART:20201025T010000
TZNAME:CET
END:STANDARD
END:VTIMEZONE
END:VCALENDAR
