BEGIN:VCALENDAR
VERSION:2.0
PRODID:-//Events | FID-Recht//NONSGML Events//EN
CALSCALE:GREGORIAN
X-ORIGINAL-URL:https://events.intrecht.de/termine/
X-WR-CALDESC:Events | FID-Recht - Events
BEGIN:VEVENT
UID:20210303T1958Z-1614801523.0734-EO-3448-1@172.16.200.141
STATUS:CONFIRMED
DTSTAMP:20260421T102545Z
CREATED:20210219T131924Z
LAST-MODIFIED:20210219T131924Z
DTSTART;VALUE=DATE:20210217
DTEND;VALUE=DATE:20210217
SUMMARY: Gespräch zum Thema Flucht und Migration (mit Dana Schmalz und Dani
 el Thym) (Online-Vortrag)
DESCRIPTION: 17.2.2021\, Online https://www.wsi.uni-kiel.de/de/veranstaltun
 gen/voelkerrechtliche-tagesthemen/voelkerrechtliche-tagesthemen  
X-ALT-DESC;FMTTYPE=text/html: <p>17.2.2021\, Online</p><p><a href="https://
 www.wsi.uni-kiel.de/de/veranstaltungen/voelkerrechtliche-tagesthemen/voelke
 rrechtliche-tagesthemen">https://www.wsi.uni-kiel.de/de/veranstaltungen/voe
 lkerrechtliche-tagesthemen/voelkerrechtliche-tagesthemen</a></p><p> </p><p>
 [av_button label='iCal-Export' link='./feed/eo-events' link_target='' size=
 'small' position='center' label_display='' title_attr='' icon_select='yes' 
 icon='ue85b' font='entypo-fontello' color='custom' custom_bg='#b5123e' cust
 om_font='#ffffff' av_uid='' id='' custom_class='' admin_preview_bg='']</p>
CATEGORIES:Europäisches / Internationales Recht
LOCATION:Online
GEO:0.000000;0.000000
ORGANIZER;CN="ViFa-Recht":MAILTO:vifa-recht@sbb.spk-berlin.de
URL;VALUE=URI:https://events.intrecht.de/termine/termin/gespraech-zum-thema
 -flucht-und-migration-mit-dana-schmalz-und-daniel-thym-online-vortrag/
END:VEVENT
BEGIN:VTIMEZONE
TZID:Europe/Berlin
BEGIN:STANDARD
TZOFFSETFROM:+0200
TZOFFSETTO:+0100
DTSTART:20201025T010000
TZNAME:CET
END:STANDARD
END:VTIMEZONE
END:VCALENDAR
