BEGIN:VCALENDAR
VERSION:2.0
PRODID:-//Events | FID-Recht//NONSGML Events//EN
CALSCALE:GREGORIAN
X-ORIGINAL-URL:https://events.intrecht.de/termine/
X-WR-CALDESC:Events | FID-Recht - Events
BEGIN:VEVENT
UID:20200603T1418Z-1591193923.3362-EO-587-1@172.16.200.141
STATUS:CONFIRMED
DTSTAMP:20260425T220125Z
CREATED:20230622T090219Z
LAST-MODIFIED:20230622T090219Z
DTSTART;VALUE=DATE:20230711
DTEND;VALUE=DATE:20230712
SUMMARY: Gespräch über „‚Der Dienstbetrieb ist nicht gestört‘. Die Deutsche
 n und ihre Justiz 1943–1948″ und über rechtshistorisches Schreiben
DESCRIPTION: 11.7.2023 / Berlin https://www.rewi.hu-berlin.de/de/lf/oe/lsi/
 veranstaltungen/werkstattgespraeche/arbeitskreis-normen-zeiten-texte
X-ALT-DESC;FMTTYPE=text/html: <p>11.7.2023 / Berlin</p><p><a href="https://
 www.rewi.hu-berlin.de/de/lf/oe/lsi/veranstaltungen/werkstattgespraeche/arbe
 itskreis-normen-zeiten-texte">https://www.rewi.hu-berlin.de/de/lf/oe/lsi/ve
 ranstaltungen/werkstattgespraeche/arbeitskreis-normen-zeiten-texte</a></p><
 p>[av_button label='iCal-Export' link='./feed/eo-events' link_target='' siz
 e='small' position='center' label_display='' title_attr='' icon_select='yes
 ' icon='ue85b' font='entypo-fontello' color='custom' custom_bg='#b5123e' cu
 stom_font='#ffffff' av_uid='' id='' custom_class='' admin_preview_bg='']</p
 >
CATEGORIES:Recht interdisziplinär
LOCATION:Inland
GEO:0.000000;0.000000
ORGANIZER;CN="ViFa-Recht":MAILTO:vifa-recht@sbb.spk-berlin.de
URL;VALUE=URI:https://events.intrecht.de/termine/termin/gespraech-ueber-der
 -dienstbetrieb-ist-nicht-gestoert-die-deutschen-und-ihre-justiz-1943-1948-u
 nd-ueber-rechtshistorisches-schreiben/
END:VEVENT
BEGIN:VTIMEZONE
TZID:Europe/Berlin
BEGIN:DAYLIGHT
TZOFFSETFROM:+0100
TZOFFSETTO:+0200
DTSTART:20230326T010000
TZNAME:CEST
END:DAYLIGHT
END:VTIMEZONE
END:VCALENDAR
