BEGIN:VCALENDAR
VERSION:2.0
PRODID:-//Events | FID-Recht//NONSGML Events//EN
CALSCALE:GREGORIAN
X-ORIGINAL-URL:https://events.intrecht.de/termine/
X-WR-CALDESC:Events | FID-Recht - Events
BEGIN:VEVENT
UID:20220402T2151Z-1648936299.455-EO-6427-1@172.16.200.141
STATUS:CONFIRMED
DTSTAMP:20260421T102823Z
CREATED:20220331T105127Z
LAST-MODIFIED:20220331T105127Z
DTSTART;VALUE=DATE:20220405
DTEND;VALUE=DATE:20220405
SUMMARY: Geschlecht im Recht/Recht gendersensibel betrachtet (Seminar) (CfA
 )
DESCRIPTION: 19.4.2022 & Folgetermine\, Berlin (Bewerbungsfrist: 4.4.2022) 
 Jetzt für Schlüsselqualifikation „Geschlecht im Recht/Recht gendersensibel 
 betrachtet“ anmelden! Achtung: Frist bis 5.4.22! • Univ.-Prof. Dr. Christin
 e Morgenstern • Fachbereich Rechtswissenschaft (fu-berlin.de)  
X-ALT-DESC;FMTTYPE=text/html: <p>19.4.2022 & Folgetermine\, Berlin (Bewerbu
 ngsfrist: 4.4.2022)</p><p><a href="https://www.jura.fu-berlin.de/fachbereic
 h/einrichtungen/strafrecht/lehrende/morgensternc/informationen/neueschluess
 elqualifikationgeschlechtimrecht.html">Jetzt für Schlüsselqualifikation "Ge
 schlecht im Recht/Recht gendersensibel betrachtet" anmelden! Achtung: Frist
  bis 5.4.22! • Univ.-Prof. Dr. Christine Morgenstern • Fachbereich Rechtswi
 ssenschaft (fu-berlin.de)</a></p><p> </p><p>[av_button label='iCal-Export' 
 link='./feed/eo-events' link_target='' size='small' position='center' label
 _display='' title_attr='' icon_select='yes' icon='ue85b' font='entypo-fonte
 llo' color='custom' custom_bg='#b5123e' custom_font='#ffffff' av_uid='' id=
 '' custom_class='' admin_preview_bg='']</p>
CATEGORIES:Recht interdisziplinär
LOCATION:Inland
GEO:0.000000;0.000000
ORGANIZER;CN="ViFa-Recht":MAILTO:vifa-recht@sbb.spk-berlin.de
URL;VALUE=URI:https://events.intrecht.de/termine/termin/geschlecht-im-recht
 -recht-gendersensibel-betrachtet-seminar-cfa/
END:VEVENT
BEGIN:VTIMEZONE
TZID:Europe/Berlin
BEGIN:DAYLIGHT
TZOFFSETFROM:+0100
TZOFFSETTO:+0200
DTSTART:20220327T010000
TZNAME:CEST
END:DAYLIGHT
END:VTIMEZONE
END:VCALENDAR
