BEGIN:VCALENDAR
VERSION:2.0
PRODID:-//Events | FID-Recht//NONSGML Events//EN
CALSCALE:GREGORIAN
X-ORIGINAL-URL:https://events.intrecht.de/termine/
X-WR-CALDESC:Events | FID-Recht - Events
BEGIN:VEVENT
UID:20200603T1418Z-1591193923.3362-EO-587-1@172.16.200.141
STATUS:CONFIRMED
DTSTAMP:20260425T145722Z
CREATED:20250623T075645Z
LAST-MODIFIED:20250623T075645Z
DTSTART;VALUE=DATE:20250708
DTEND;VALUE=DATE:20250709
SUMMARY: Geschlecht als Prämisse? Zur disruptiven Natur des Selbstbestimmun
 gsgesetzes (Vortrag)
DESCRIPTION: 8.7.2025 / Hamburg https://events.mpipriv.de/b?p=family_law_at
 _four_mit_konrad_duden
X-ALT-DESC;FMTTYPE=text/html: <p>8.7.2025 / Hamburg</p><p><a href="https://
 events.mpipriv.de/b?p=family_law_at_four_mit_konrad_duden">https://events.m
 pipriv.de/b?p=family_law_at_four_mit_konrad_duden</a></p><p>[av_button labe
 l='iCal-Export' link='./feed/eo-events' link_target='' size='small' positio
 n='center' label_display='' title_attr='' icon_select='yes' icon='ue85b' fo
 nt='entypo-fontello' color='custom' custom_bg='#b5123e' custom_font='#fffff
 f' av_uid='' id='' custom_class='' admin_preview_bg='']</p>
CATEGORIES:Zivilrecht
LOCATION:Inland
GEO:0.000000;0.000000
ORGANIZER;CN="ViFa-Recht":MAILTO:vifa-recht@sbb.spk-berlin.de
URL;VALUE=URI:https://events.intrecht.de/termine/termin/geschlecht-als-prae
 misse-zur-disruptiven-natur-des-selbstbestimmungsgesetzes-vortrag/
END:VEVENT
BEGIN:VTIMEZONE
TZID:Europe/Berlin
BEGIN:DAYLIGHT
TZOFFSETFROM:+0100
TZOFFSETTO:+0200
DTSTART:20250330T010000
TZNAME:CEST
END:DAYLIGHT
END:VTIMEZONE
END:VCALENDAR
