BEGIN:VCALENDAR
VERSION:2.0
PRODID:-//Events | FID-Recht//NONSGML Events//EN
CALSCALE:GREGORIAN
X-ORIGINAL-URL:https://events.intrecht.de/termine/
X-WR-CALDESC:Events | FID-Recht - Events
BEGIN:VEVENT
UID:20200603T1418Z-1591193923.3362-EO-587-1@172.16.200.141
STATUS:CONFIRMED
DTSTAMP:20260425T132612Z
CREATED:20231025T101028Z
LAST-MODIFIED:20231025T101028Z
DTSTART;VALUE=DATE:20231204
DTEND;VALUE=DATE:20231205
SUMMARY: Geschichte und Recht. Wie viel Verfassung braucht die Erinnerungsk
 ultur? (Öffentliche Veranstaltungsreihe / Montagsdebatte 2023/2024 „Geschic
 hte und Erinnerung heute“)
DESCRIPTION: 4.12.2023 / Berlin https://zzf-potsdam.de/de/veranstaltungen/m
 ontagsdebatte-20232024-geschichte-erinnerung-heute
X-ALT-DESC;FMTTYPE=text/html: <p>4.12.2023 / Berlin</p><p><a href="https://
 zzf-potsdam.de/de/veranstaltungen/montagsdebatte-20232024-geschichte-erinne
 rung-heute">https://zzf-potsdam.de/de/veranstaltungen/montagsdebatte-202320
 24-geschichte-erinnerung-heute</a></p><p>[av_button label='iCal-Export' lin
 k='./feed/eo-events' link_target='' size='small' position='center' label_di
 splay='' title_attr='' icon_select='yes' icon='ue85b' font='entypo-fontello
 ' color='custom' custom_bg='#b5123e' custom_font='#ffffff' av_uid='' id='' 
 custom_class='' admin_preview_bg='']</p>
CATEGORIES:Recht interdisziplinär
LOCATION:Inland
GEO:0.000000;0.000000
ORGANIZER;CN="ViFa-Recht":MAILTO:vifa-recht@sbb.spk-berlin.de
URL;VALUE=URI:https://events.intrecht.de/termine/termin/geschichte-und-rech
 t-wie-viel-verfassung-braucht-die-erinnerungskultur-oeffentliche-veranstalt
 ungsreihe-montagsdebatte-2023-2024-geschichte-und-erinnerung-heute/
END:VEVENT
BEGIN:VTIMEZONE
TZID:Europe/Berlin
BEGIN:STANDARD
TZOFFSETFROM:+0200
TZOFFSETTO:+0100
DTSTART:20231029T010000
TZNAME:CET
END:STANDARD
END:VTIMEZONE
END:VCALENDAR
