BEGIN:VCALENDAR
VERSION:2.0
PRODID:-//Events | FID-Recht//NONSGML Events//EN
CALSCALE:GREGORIAN
X-ORIGINAL-URL:https://events.intrecht.de/termine/
X-WR-CALDESC:Events | FID-Recht - Events
BEGIN:VEVENT
UID:20200603T1418Z-1591193923.3362-EO-587-1@172.16.200.141
STATUS:CONFIRMED
DTSTAMP:20260425T234750Z
CREATED:20230615T140804Z
LAST-MODIFIED:20230615T140804Z
DTSTART;VALUE=DATE:20230921
DTEND;VALUE=DATE:20230925
SUMMARY: Geschichte des Rechts im Donau-Karpaten-Raum im Spätmittelalter un
 d der Frühen Neuzeit (Nachwuchsseminar für Studierende und Doktoranden)
DESCRIPTION: 21.-24.9.2023 / Passau (Bewerbungsfrist: 30.6.2023) https://ww
 w.hsozkult.de/event/id/event-136528?title=geschichte-des-rechts-im-donau-ka
 rpaten-raum-im-spaetmittelalter-und-der-fruehen-neuzeit&recno=1&q=rechtswis
 senschaft&sort=relevance&fq=&total=17
X-ALT-DESC;FMTTYPE=text/html: <p>21.-24.9.2023 / Passau <strong>(Bewerbungs
 frist: 30.6.2023)</strong></p><p><a href="https://www.hsozkult.de/event/id/
 event-136528?title=geschichte-des-rechts-im-donau-karpaten-raum-im-spaetmit
 telalter-und-der-fruehen-neuzeit&recno=1&q=rechtswissenschaft&sort=relevanc
 e&fq=&total=17">https://www.hsozkult.de/event/id/event-136528?title=geschic
 hte-des-rechts-im-donau-karpaten-raum-im-spaetmittelalter-und-der-fruehen-n
 euzeit&recno=1&q=rechtswissenschaft&sort=relevance&fq=&total=17</a></p><p>[
 av_button label='iCal-Export' link='./feed/eo-events' link_target='' size='
 small' position='center' label_display='' title_attr='' icon_select='yes' i
 con='ue85b' font='entypo-fontello' color='custom' custom_bg='#b5123e' custo
 m_font='#ffffff' av_uid='' id='' custom_class='' admin_preview_bg='']</p>
CATEGORIES:Recht interdisziplinär
LOCATION:Inland
GEO:0.000000;0.000000
ORGANIZER;CN="ViFa-Recht":MAILTO:vifa-recht@sbb.spk-berlin.de
URL;VALUE=URI:https://events.intrecht.de/termine/termin/geschichte-des-rech
 ts-im-donau-karpaten-raum-im-spaetmittelalter-und-der-fruehen-neuzeit-nachw
 uchsseminar-fuer-studierende-und-doktoranden/
END:VEVENT
BEGIN:VTIMEZONE
TZID:Europe/Berlin
BEGIN:DAYLIGHT
TZOFFSETFROM:+0100
TZOFFSETTO:+0200
DTSTART:20230326T010000
TZNAME:CEST
END:DAYLIGHT
END:VTIMEZONE
END:VCALENDAR
