BEGIN:VCALENDAR
VERSION:2.0
PRODID:-//Events | FID-Recht//NONSGML Events//EN
CALSCALE:GREGORIAN
X-ORIGINAL-URL:https://events.intrecht.de/termine/
X-WR-CALDESC:Events | FID-Recht - Events
BEGIN:VEVENT
UID:20200603T1418Z-1591193923.3362-EO-587-1@172.16.200.141
STATUS:CONFIRMED
DTSTAMP:20260422T174409Z
CREATED:20240809T073647Z
LAST-MODIFIED:20240809T073647Z
DTSTART;VALUE=DATE:20240923
DTEND;VALUE=DATE:20240925
SUMMARY: Gerechtigkeit und Wiedergutmachung – Neue Impulse für Opferhilfe u
 nd Strafrecht der Zukunft (Symposium)
DESCRIPTION: 23.-24.9.2024 / Stuttgart (Anmeldefrist: 15.9.2024) https://re
 soportal.de/symposium24/
X-ALT-DESC;FMTTYPE=text/html: <p>23.-24.9.2024 / Stuttgart <strong>(Anmelde
 frist:</strong> <strong>15.9.2024)</strong></p><p><a href="https://resoport
 al.de/symposium24/">https://resoportal.de/symposium24/</a></p><p>[av_button
  label='iCal-Export' link='./feed/eo-events' link_target='' size='small' po
 sition='center' label_display='' title_attr='' icon_select='yes' icon='ue85
 b' font='entypo-fontello' color='custom' custom_bg='#b5123e' custom_font='#
 ffffff' av_uid='' id='' custom_class='' admin_preview_bg='']</p>
CATEGORIES:Strafrecht
LOCATION:Inland
GEO:0.000000;0.000000
ORGANIZER;CN="ViFa-Recht":MAILTO:vifa-recht@sbb.spk-berlin.de
URL;VALUE=URI:https://events.intrecht.de/termine/termin/gerechtigkeit-und-w
 iedergutmachung-neue-impulse-fuer-opferhilfe-und-strafrecht-der-zukunft-sym
 posium/
END:VEVENT
BEGIN:VTIMEZONE
TZID:Europe/Berlin
BEGIN:DAYLIGHT
TZOFFSETFROM:+0100
TZOFFSETTO:+0200
DTSTART:20240331T010000
TZNAME:CEST
END:DAYLIGHT
END:VTIMEZONE
END:VCALENDAR
