BEGIN:VCALENDAR
VERSION:2.0
PRODID:-//Events | FID-Recht//NONSGML Events//EN
CALSCALE:GREGORIAN
X-ORIGINAL-URL:https://events.intrecht.de/termine/
X-WR-CALDESC:Events | FID-Recht - Events
BEGIN:VEVENT
UID:20200603T1418Z-1591193923.3362-EO-587-1@172.16.200.141
STATUS:CONFIRMED
DTSTAMP:20260422T123408Z
CREATED:20240207T104527Z
LAST-MODIFIED:20240207T104527Z
DTSTART;VALUE=DATE:20240315
DTEND;VALUE=DATE:20240316
SUMMARY: Gerechtigkeit durch Tarifvertrag (Abschlusstagung)
DESCRIPTION: 15.3.2024 / Berlin (Anmeldefrist: 1.3.2024) https://www.jura.f
 u-berlin.de/fachbereich/einrichtungen/zivilrecht/lehrende/roedlf/1_-Informa
 tionen/GdTV.html
X-ALT-DESC;FMTTYPE=text/html: <p>15.3.2024 / Berlin <strong>(Anmeldefrist: 
 1.3.2024)</strong></p><p><a href="https://www.jura.fu-berlin.de/fachbereich
 /einrichtungen/zivilrecht/lehrende/roedlf/1_-Informationen/GdTV.html">https
 ://www.jura.fu-berlin.de/fachbereich/einrichtungen/zivilrecht/lehrende/roed
 lf/1_-Informationen/GdTV.html</a></p><p>[av_button label='iCal-Export' link
 ='./feed/eo-events' link_target='' size='small' position='center' label_dis
 play='' title_attr='' icon_select='yes' icon='ue85b' font='entypo-fontello'
  color='custom' custom_bg='#b5123e' custom_font='#ffffff' av_uid='' id='' c
 ustom_class='' admin_preview_bg='']</p>
CATEGORIES:Zivilrecht
LOCATION:Inland
GEO:0.000000;0.000000
ORGANIZER;CN="ViFa-Recht":MAILTO:vifa-recht@sbb.spk-berlin.de
URL;VALUE=URI:https://events.intrecht.de/termine/termin/gerechtigkeit-durch
 -tarifvertrag-abschlusstagung/
END:VEVENT
BEGIN:VTIMEZONE
TZID:Europe/Berlin
BEGIN:STANDARD
TZOFFSETFROM:+0200
TZOFFSETTO:+0100
DTSTART:20231029T010000
TZNAME:CET
END:STANDARD
END:VTIMEZONE
END:VCALENDAR
