BEGIN:VCALENDAR
VERSION:2.0
PRODID:-//Events | FID-Recht//NONSGML Events//EN
CALSCALE:GREGORIAN
X-ORIGINAL-URL:https://events.intrecht.de/termine/
X-WR-CALDESC:Events | FID-Recht - Events
BEGIN:VEVENT
UID:20220303T0748Z-1646293721.3364-EO-4255-1@172.16.200.141
STATUS:CONFIRMED
DTSTAMP:20260426T021735Z
CREATED:20220221T101926Z
LAST-MODIFIED:20220221T163417Z
DTSTART;VALUE=DATE:20220303
DTEND;VALUE=DATE:20220306
SUMMARY: Gerechtigkeit aus der Ferne? ((Online-)Tagung)
DESCRIPTION: 3.-5.3.2022\, Marburg/Online Interdisziplinäre Tagung „Gerecht
 igkeit aus der Ferne?“ – Nachrichten – Internationales Forschungs– und Doku
 mentationszentrum Kriegsverbrecherprozesse – Philipps-Universität Marburg (
 uni-marburg.de)  
X-ALT-DESC;FMTTYPE=text/html: <p>3.-5.3.2022\, Marburg/Online</p><p><a href
 ="https://www.uni-marburg.de/de/icwc/aktuelles/nachrichten/interdisziplinae
 re-tagung-gerechtigkeit-aus-der-ferne">Interdisziplinäre Tagung „Gerechtigk
 eit aus der Ferne?“ - Nachrichten - Internationales Forschungs– und Dokumen
 tationszentrum Kriegsverbrecherprozesse - Philipps-Universität Marburg (uni
 -marburg.de)</a></p><p> </p><p>[av_button label='iCal-Export' link='./feed/
 eo-events' link_target='' size='small' position='center' label_display='' t
 itle_attr='' icon_select='yes' icon='ue85b' font='entypo-fontello' color='c
 ustom' custom_bg='#b5123e' custom_font='#ffffff' av_uid='' id='' custom_cla
 ss='' admin_preview_bg='']</p>
CATEGORIES:Recht interdisziplinär
LOCATION:Online
GEO:0.000000;0.000000
ORGANIZER;CN="ViFa-Recht":MAILTO:vifa-recht@sbb.spk-berlin.de
URL;VALUE=URI:https://events.intrecht.de/termine/termin/gerechtigkeit-aus-d
 er-ferne-tagung/
END:VEVENT
BEGIN:VTIMEZONE
TZID:Europe/Berlin
BEGIN:STANDARD
TZOFFSETFROM:+0200
TZOFFSETTO:+0100
DTSTART:20211031T010000
TZNAME:CET
END:STANDARD
END:VTIMEZONE
END:VCALENDAR
