BEGIN:VCALENDAR
VERSION:2.0
PRODID:-//Events | FID-Recht//NONSGML Events//EN
CALSCALE:GREGORIAN
X-ORIGINAL-URL:https://events.intrecht.de/termine/
X-WR-CALDESC:Events | FID-Recht - Events
BEGIN:VEVENT
UID:20200603T1418Z-1591193923.3362-EO-587-1@172.16.200.141
STATUS:CONFIRMED
DTSTAMP:20260422T071914Z
CREATED:20240111T133023Z
LAST-MODIFIED:20240111T133023Z
DTSTART;VALUE=DATE:20240122
DTEND;VALUE=DATE:20240123
SUMMARY: Gerechtigkeit aus der Ferne? Herausforderungen der nationalen Verf
 olgung von Völkerrechtsverbrechen (Book Talk)
DESCRIPTION: 22.1.2024 / Online https://www.uni-marburg.de/de/icwc/aktuelle
 s/termine/icwc-book-talk-gerechtigkeit-aus-der-ferne-herausforderungen-der-
 nationalen-verfolgung-von-voelkerrechtsverbrechen
X-ALT-DESC;FMTTYPE=text/html: <p>22.1.2024 / Online</p><p><a href="https://
 www.uni-marburg.de/de/icwc/aktuelles/termine/icwc-book-talk-gerechtigkeit-a
 us-der-ferne-herausforderungen-der-nationalen-verfolgung-von-voelkerrechtsv
 erbrechen">https://www.uni-marburg.de/de/icwc/aktuelles/termine/icwc-book-t
 alk-gerechtigkeit-aus-der-ferne-herausforderungen-der-nationalen-verfolgung
 -von-voelkerrechtsverbrechen</a></p><p>[av_button label='iCal-Export' link=
 './feed/eo-events' link_target='' size='small' position='center' label_disp
 lay='' title_attr='' icon_select='yes' icon='ue85b' font='entypo-fontello' 
 color='custom' custom_bg='#b5123e' custom_font='#ffffff' av_uid='' id='' cu
 stom_class='' admin_preview_bg='']</p>
CATEGORIES:Europäisches / Internationales Recht
LOCATION:Online
GEO:0.000000;0.000000
ORGANIZER;CN="ViFa-Recht":MAILTO:vifa-recht@sbb.spk-berlin.de
URL;VALUE=URI:https://events.intrecht.de/termine/termin/gerechtigkeit-aus-d
 er-ferne-herausforderungen-der-nationalen-verfolgung-von-voelkerrechtsverbr
 echen-book-talk/
END:VEVENT
BEGIN:VTIMEZONE
TZID:Europe/Berlin
BEGIN:STANDARD
TZOFFSETFROM:+0200
TZOFFSETTO:+0100
DTSTART:20231029T010000
TZNAME:CET
END:STANDARD
END:VTIMEZONE
END:VCALENDAR
