BEGIN:VCALENDAR
VERSION:2.0
PRODID:-//Events | FID-Recht//NONSGML Events//EN
CALSCALE:GREGORIAN
X-ORIGINAL-URL:https://events.intrecht.de/termine/
X-WR-CALDESC:Events | FID-Recht - Events
BEGIN:VEVENT
UID:20200603T1418Z-1591193923.3362-EO-587-1@172.16.200.141
STATUS:CONFIRMED
DTSTAMP:20260421T102545Z
CREATED:20230824T072843Z
LAST-MODIFIED:20230824T072843Z
DTSTART;VALUE=DATE:20231208
DTEND;VALUE=DATE:20231210
SUMMARY: Georg Ludwig Maurer – Gesetzgeber Griechenlands (Tagung)
DESCRIPTION: 8.-9.12.2023 / Regensburg https://www.hsozkult.de/event/id/eve
 nt-138235
X-ALT-DESC;FMTTYPE=text/html: <p>8.-9.12.2023 / Regensburg</p><p><a href="h
 ttps://www.hsozkult.de/event/id/event-138235">https://www.hsozkult.de/event
 /id/event-138235</a></p><p>[av_button label='iCal-Export' link='./feed/eo-e
 vents' link_target='' size='small' position='center' label_display='' title
 _attr='' icon_select='yes' icon='ue85b' font='entypo-fontello' color='custo
 m' custom_bg='#b5123e' custom_font='#ffffff' av_uid='' id='' custom_class='
 ' admin_preview_bg='']</p>
CATEGORIES:Recht interdisziplinär
LOCATION:Inland
GEO:0.000000;0.000000
ORGANIZER;CN="ViFa-Recht":MAILTO:vifa-recht@sbb.spk-berlin.de
URL;VALUE=URI:https://events.intrecht.de/termine/termin/georg-ludwig-maurer
 -gesetzgeber-griechenlands-tagung/
END:VEVENT
BEGIN:VTIMEZONE
TZID:Europe/Berlin
BEGIN:STANDARD
TZOFFSETFROM:+0200
TZOFFSETTO:+0100
DTSTART:20231029T010000
TZNAME:CET
END:STANDARD
END:VTIMEZONE
END:VCALENDAR
