BEGIN:VCALENDAR
VERSION:2.0
PRODID:-//Events | FID-Recht//NONSGML Events//EN
CALSCALE:GREGORIAN
X-ORIGINAL-URL:https://events.intrecht.de/termine/
X-WR-CALDESC:Events | FID-Recht - Events
BEGIN:VEVENT
UID:20200603T1418Z-1591193923.3362-EO-587-1@172.16.200.141
STATUS:CONFIRMED
DTSTAMP:20260425T201006Z
CREATED:20231108T100712Z
LAST-MODIFIED:20231108T100712Z
DTSTART;VALUE=DATE:20240320
DTEND;VALUE=DATE:20240321
SUMMARY: Genocide and the Ocean: Conceptualising their Relationship (Worksh
 op)
DESCRIPTION: 20.3.2024 / Canterbury (Einreichungsfrist: 15.12.2023) https:/
 /drive.google.com/file/d/1sfZpGrBj11zyK6GpGFJNYUsSZkP7CdUL/view
X-ALT-DESC;FMTTYPE=text/html: <p>20.3.2024 / Canterbury <strong>(Einreichun
 gsfrist: 15.12.2023)</strong></p><p><a href="https://drive.google.com/file/
 d/1sfZpGrBj11zyK6GpGFJNYUsSZkP7CdUL/view">https://drive.google.com/file/d/1
 sfZpGrBj11zyK6GpGFJNYUsSZkP7CdUL/view</a></p><p>[av_button label='iCal-Expo
 rt' link='./feed/eo-events' link_target='' size='small' position='center' l
 abel_display='' title_attr='' icon_select='yes' icon='ue85b' font='entypo-f
 ontello' color='custom' custom_bg='#b5123e' custom_font='#ffffff' av_uid=''
  id='' custom_class='' admin_preview_bg='']</p>
CATEGORIES:Recht interdisziplinär
LOCATION:Ausland
GEO:0.000000;0.000000
ORGANIZER;CN="ViFa-Recht":MAILTO:vifa-recht@sbb.spk-berlin.de
URL;VALUE=URI:https://events.intrecht.de/termine/termin/genocide-and-the-oc
 ean-conceptualising-their-relationship-workshop/
END:VEVENT
BEGIN:VTIMEZONE
TZID:Europe/Berlin
BEGIN:STANDARD
TZOFFSETFROM:+0200
TZOFFSETTO:+0100
DTSTART:20231029T010000
TZNAME:CET
END:STANDARD
END:VTIMEZONE
END:VCALENDAR
