BEGIN:VCALENDAR
VERSION:2.0
PRODID:-//Events | FID-Recht//NONSGML Events//EN
CALSCALE:GREGORIAN
X-ORIGINAL-URL:https://events.intrecht.de/termine/
X-WR-CALDESC:Events | FID-Recht - Events
BEGIN:VEVENT
UID:20200603T1418Z-1591193923.3362-EO-587-1@172.16.200.141
STATUS:CONFIRMED
DTSTAMP:20260422T111049Z
CREATED:20240205T143419Z
LAST-MODIFIED:20240205T143419Z
DTSTART;VALUE=DATE:20240223
DTEND;VALUE=DATE:20240224
SUMMARY: Generative KI im Spiegel des Urheberrechts (Tagung)
DESCRIPTION: 23.2.2024 / Berlin https://www.jura.fu-berlin.de/forschung/ver
 anstaltungen/flyer_etc/Flyer_Tagung_KI-UrhR.pdf
X-ALT-DESC;FMTTYPE=text/html: <p>23.2.2024 / Berlin</p><p><a href="https://
 www.jura.fu-berlin.de/forschung/veranstaltungen/flyer_etc/Flyer_Tagung_KI-U
 rhR.pdf">https://www.jura.fu-berlin.de/forschung/veranstaltungen/flyer_etc/
 Flyer_Tagung_KI-UrhR.pdf</a></p><p>[av_button label='iCal-Export' link='./f
 eed/eo-events' link_target='' size='small' position='center' label_display=
 '' title_attr='' icon_select='yes' icon='ue85b' font='entypo-fontello' colo
 r='custom' custom_bg='#b5123e' custom_font='#ffffff' av_uid='' id='' custom
 _class='' admin_preview_bg='']</p>
CATEGORIES:Recht interdisziplinär
LOCATION:Inland
GEO:0.000000;0.000000
ORGANIZER;CN="ViFa-Recht":MAILTO:vifa-recht@sbb.spk-berlin.de
URL;VALUE=URI:https://events.intrecht.de/termine/termin/generative-ki-im-sp
 iegel-des-urheberrechts-tagung/
END:VEVENT
BEGIN:VTIMEZONE
TZID:Europe/Berlin
BEGIN:STANDARD
TZOFFSETFROM:+0200
TZOFFSETTO:+0100
DTSTART:20231029T010000
TZNAME:CET
END:STANDARD
END:VTIMEZONE
END:VCALENDAR
