BEGIN:VCALENDAR
VERSION:2.0
PRODID:-//Events | FID-Recht//NONSGML Events//EN
CALSCALE:GREGORIAN
X-ORIGINAL-URL:https://events.intrecht.de/termine/
X-WR-CALDESC:Events | FID-Recht - Events
BEGIN:VEVENT
UID:20200603T1418Z-1591193923.3362-EO-587-1@172.16.200.141
STATUS:CONFIRMED
DTSTAMP:20260425T183036Z
CREATED:20230704T112214Z
LAST-MODIFIED:20230704T112214Z
DTSTART;VALUE=DATE:20230712
DTEND;VALUE=DATE:20230713
SUMMARY: General principles formed within the international legal system: T
 heoretical debates and practical ramifications in light the work of the ILC
  (Völkerrechtliche Tagesthemen)
DESCRIPTION: 12.7.2023 / Online https://www.wsi.uni-kiel.de/de/veranstaltun
 gen/voelkerrechtliche-tagesthemen/voelkerrechtliche-tagesthemen-general-pri
 nciples-formed-within-the-international-legal-system-theoretical-debates-an
 d-practical-ramifications-in-light-the-work-of-the-ilc-mit-matina-papadaki
X-ALT-DESC;FMTTYPE=text/html: <p>12.7.2023 / Online</p><p><a href="https://
 www.wsi.uni-kiel.de/de/veranstaltungen/voelkerrechtliche-tagesthemen/voelke
 rrechtliche-tagesthemen-general-principles-formed-within-the-international-
 legal-system-theoretical-debates-and-practical-ramifications-in-light-the-w
 ork-of-the-ilc-mit-matina-papadaki">https://www.wsi.uni-kiel.de/de/veransta
 ltungen/voelkerrechtliche-tagesthemen/voelkerrechtliche-tagesthemen-general
 -principles-formed-within-the-international-legal-system-theoretical-debate
 s-and-practical-ramifications-in-light-the-work-of-the-ilc-mit-matina-papad
 aki</a></p><p>[av_button label='iCal-Export' link='./feed/eo-events' link_t
 arget='' size='small' position='center' label_display='' title_attr='' icon
 _select='yes' icon='ue85b' font='entypo-fontello' color='custom' custom_bg=
 '#b5123e' custom_font='#ffffff' av_uid='' id='' custom_class='' admin_previ
 ew_bg='']</p>
CATEGORIES:Europäisches / Internationales Recht
LOCATION:Online
GEO:0.000000;0.000000
ORGANIZER;CN="ViFa-Recht":MAILTO:vifa-recht@sbb.spk-berlin.de
URL;VALUE=URI:https://events.intrecht.de/termine/termin/general-principles-
 formed-within-the-international-legal-system-theoretical-debates-and-practi
 cal-ramifications-in-light-the-work-of-the-ilc-voelkerrechtliche-tagestheme
 n/
END:VEVENT
BEGIN:VTIMEZONE
TZID:Europe/Berlin
BEGIN:DAYLIGHT
TZOFFSETFROM:+0100
TZOFFSETTO:+0200
DTSTART:20230326T010000
TZNAME:CEST
END:DAYLIGHT
END:VTIMEZONE
END:VCALENDAR
