BEGIN:VCALENDAR
VERSION:2.0
PRODID:-//Events | FID-Recht//NONSGML Events//EN
CALSCALE:GREGORIAN
X-ORIGINAL-URL:https://events.intrecht.de/termine/
X-WR-CALDESC:Events | FID-Recht - Events
BEGIN:VEVENT
UID:20220626T0630Z-1656225048.1925-EO-4288-1@172.16.200.151
STATUS:CONFIRMED
DTSTAMP:20260419T163634Z
CREATED:20220623T165744Z
LAST-MODIFIED:20220623T165744Z
DTSTART;VALUE=DATE:20221023
DTEND;VALUE=DATE:20221029
SUMMARY: General Congress of the International Academy of Comparative Law (
 Tagung)
DESCRIPTION: 23.-28.10.2022\, Asunción (Paraguay) https://aidc-iacl.org/asu
 ncionprogramme/  
X-ALT-DESC;FMTTYPE=text/html: <p>23.-28.10.2022\, Asunción (Paraguay)</p><p
 ><a href="https://aidc-iacl.org/asuncionprogramme/">https://aidc-iacl.org/a
 suncionprogramme/</a></p><p> </p><p>[av_button label='iCal-Export' link='./
 feed/eo-events' link_target='' size='small' position='center' label_display
 ='' title_attr='' icon_select='yes' icon='ue85b' font='entypo-fontello' col
 or='custom' custom_bg='#b5123e' custom_font='#ffffff' av_uid='' id='' custo
 m_class='' admin_preview_bg='']</p>
CATEGORIES:Recht interdisziplinär
LOCATION:Ausland
GEO:0.000000;0.000000
ORGANIZER;CN="ViFa-Recht":MAILTO:vifa-recht@sbb.spk-berlin.de
URL;VALUE=URI:https://events.intrecht.de/termine/termin/general-congress-of
 -the-international-academy-of-comparative-law-tagung/
END:VEVENT
BEGIN:VTIMEZONE
TZID:Europe/Berlin
BEGIN:DAYLIGHT
TZOFFSETFROM:+0100
TZOFFSETTO:+0200
DTSTART:20220327T010000
TZNAME:CEST
END:DAYLIGHT
END:VTIMEZONE
END:VCALENDAR
