BEGIN:VCALENDAR
VERSION:2.0
PRODID:-//Events | FID-Recht//NONSGML Events//EN
CALSCALE:GREGORIAN
X-ORIGINAL-URL:https://events.intrecht.de/termine/
X-WR-CALDESC:Events | FID-Recht - Events
BEGIN:VEVENT
UID:20220320T0105Z-1647738309.6079-EO-6043-1@172.16.200.141
STATUS:CONFIRMED
DTSTAMP:20260421T102821Z
CREATED:20220223T083037Z
LAST-MODIFIED:20220223T083037Z
DTSTART;TZID=Europe/Berlin:20220325T120000
DTEND;TZID=Europe/Berlin:20220325T130000
SUMMARY: Gender\, Trauma & Criminal Justice – Why Orange Should Not Be the 
 New Black (with Federica Coppola) (Online-Vortrag)
DESCRIPTION: 25.3.2022 12-13 Uhr\, Online https://minervalawnetwork.com/eve
 nts/federica-coppola-on-gender-trauma-criminal-justice-why-orange-should-no
 t-be-the-new-black/  
X-ALT-DESC;FMTTYPE=text/html: <p>25.3.2022 12-13 Uhr\, Online</p><p><a href
 ="https://minervalawnetwork.com/events/federica-coppola-on-gender-trauma-cr
 iminal-justice-why-orange-should-not-be-the-new-black/">https://minervalawn
 etwork.com/events/federica-coppola-on-gender-trauma-criminal-justice-why-or
 ange-should-not-be-the-new-black/</a></p><p> </p><p>[av_button label='iCal-
 Export' link='./feed/eo-events' link_target='' size='small' position='cente
 r' label_display='' title_attr='' icon_select='yes' icon='ue85b' font='enty
 po-fontello' color='custom' custom_bg='#b5123e' custom_font='#ffffff' av_ui
 d='' id='' custom_class='' admin_preview_bg='']</p>
CATEGORIES:Strafrecht
LOCATION:Online
GEO:0.000000;0.000000
ORGANIZER;CN="ViFa-Recht":MAILTO:vifa-recht@sbb.spk-berlin.de
URL;VALUE=URI:https://events.intrecht.de/termine/termin/gender-trauma-crimi
 nal-justice-why-orange-should-not-be-the-new-black-with-federica-coppola-on
 line-vortrag/
END:VEVENT
BEGIN:VTIMEZONE
TZID:Europe/Berlin
BEGIN:STANDARD
TZOFFSETFROM:+0200
TZOFFSETTO:+0100
DTSTART:20211031T010000
TZNAME:CET
END:STANDARD
END:VTIMEZONE
END:VCALENDAR
