BEGIN:VCALENDAR
VERSION:2.0
PRODID:-//Events | FID-Recht//NONSGML Events//EN
CALSCALE:GREGORIAN
X-ORIGINAL-URL:https://events.intrecht.de/termine/
X-WR-CALDESC:Events | FID-Recht - Events
BEGIN:VEVENT
UID:20220501T1811Z-1651428682.1521-EO-6792-1@172.16.200.141
STATUS:CONFIRMED
DTSTAMP:20260420T111848Z
CREATED:20220429T153653Z
LAST-MODIFIED:20220429T153653Z
DTSTART;VALUE=DATE:20221124
DTEND;VALUE=DATE:20221126
SUMMARY: Gender & Crime – Sexuelle Selbstbestimmung und geschlechtsspezifis
 che Gewalt (Online-Tagung)
DESCRIPTION: 24.-25.11.2022\, Online (Frist für Einreichungen: 31.5.2022) D
 eutscher Juristinnenbund e.V.: Call for Papers: Gender & Crime – Sexuelle S
 elbstbestimmung und geschlechtsspezifische Gewalt (djb.de)  
X-ALT-DESC;FMTTYPE=text/html: <p>24.-25.11.2022\, Online (Frist für Einreic
 hungen: 31.5.2022)</p><p><a href="https://www.djb.de/presse/meldungen/detai
 l/cfp221124-25">Deutscher Juristinnenbund e.V.: Call for Papers: Gender & C
 rime – Sexuelle Selbstbestimmung und geschlechtsspezifische Gewalt (djb.de)
 </a></p><p> </p><p>[av_button label='iCal-Export' link='./feed/eo-events' l
 ink_target='' size='small' position='center' label_display='' title_attr=''
  icon_select='yes' icon='ue85b' font='entypo-fontello' color='custom' custo
 m_bg='#b5123e' custom_font='#ffffff' av_uid='' id='' custom_class='' admin_
 preview_bg='']</p>
CATEGORIES:Strafrecht
LOCATION:Online
GEO:0.000000;0.000000
ORGANIZER;CN="ViFa-Recht":MAILTO:vifa-recht@sbb.spk-berlin.de
URL;VALUE=URI:https://events.intrecht.de/termine/termin/gender-crime-sexuel
 le-selbstbestimmung-und-geschlechtsspezifische-gewalt-online-tagung/
END:VEVENT
BEGIN:VTIMEZONE
TZID:Europe/Berlin
BEGIN:STANDARD
TZOFFSETFROM:+0200
TZOFFSETTO:+0100
DTSTART:20221030T010000
TZNAME:CET
END:STANDARD
END:VTIMEZONE
END:VCALENDAR
