BEGIN:VCALENDAR
VERSION:2.0
PRODID:-//Events | FID-Recht//NONSGML Events//EN
CALSCALE:GREGORIAN
X-ORIGINAL-URL:https://events.intrecht.de/termine/
X-WR-CALDESC:Events | FID-Recht - Events
BEGIN:VEVENT
UID:20201012T1649Z-1602521393.9977-EO-1567-1@172.16.200.141
STATUS:CONFIRMED
DTSTAMP:20260422T142945Z
CREATED:20201007T134915Z
LAST-MODIFIED:20201007T134915Z
DTSTART;VALUE=DATE:20201023
DTEND;VALUE=DATE:20201023
SUMMARY: Gender biases and discrimination in AI (im Rahmen der c/o pop Conv
 ention) (Online-Paneldiskussion)
DESCRIPTION:   23.10.2020\, Online https://www.hans-bredow-institut.de/de/v
 eranstaltung-event/c-o-pop-convention  
X-ALT-DESC;FMTTYPE=text/html: <p><strong> </strong></p><p>23.10.2020\, Onli
 ne</p><p><a href="https://www.hans-bredow-institut.de/de/veranstaltung-even
 t/c-o-pop-convention">https://www.hans-bredow-institut.de/de/veranstaltung-
 event/c-o-pop-convention</a></p><p> </p><p>[av_button label='iCal-Export' l
 ink='./feed/eo-events' link_target='' size='small' position='center' label_
 display='' title_attr='' icon_select='yes' icon='ue85b' font='entypo-fontel
 lo' color='custom' custom_bg='#b5123e' custom_font='#ffffff' av_uid='' id='
 ' custom_class='' admin_preview_bg='']</p>
CATEGORIES:Recht interdisziplinär
LOCATION:Online
GEO:0.000000;0.000000
ORGANIZER;CN="ViFa-Recht":MAILTO:vifa-recht@sbb.spk-berlin.de
URL;VALUE=URI:https://events.intrecht.de/termine/termin/gender-biases-and-d
 iscrimination-in-ai-im-rahmen-der-c-o-pop-convention-online-paneldiskussion
 /
END:VEVENT
BEGIN:VTIMEZONE
TZID:Europe/Berlin
BEGIN:DAYLIGHT
TZOFFSETFROM:+0100
TZOFFSETTO:+0200
DTSTART:20200329T010000
TZNAME:CEST
END:DAYLIGHT
END:VTIMEZONE
END:VCALENDAR
