BEGIN:VCALENDAR
VERSION:2.0
PRODID:-//Events | FID-Recht//NONSGML Events//EN
CALSCALE:GREGORIAN
X-ORIGINAL-URL:https://events.intrecht.de/termine/
X-WR-CALDESC:Events | FID-Recht - Events
BEGIN:VEVENT
UID:20200603T1418Z-1591193923.3362-EO-587-1@172.16.200.141
STATUS:CONFIRMED
DTSTAMP:20260423T003224Z
CREATED:20231221T091719Z
LAST-MODIFIED:20231221T091719Z
DTSTART;VALUE=DATE:20240116
DTEND;VALUE=DATE:20240118
SUMMARY: Gender and International Criminal Law (Conference)
DESCRIPTION: 16.-17.1.2024 / Den Haag (Anmeldefrist: 10.1.2024) https://www
 .universiteitleiden.nl/en/events/2024/01/gender-and-international-criminal-
 law
X-ALT-DESC;FMTTYPE=text/html: <p>16.-17.1.2024 / Den Haag <strong>(Anmeldef
 rist: 10.1.2024)</strong></p><p><a href="https://www.universiteitleiden.nl/
 en/events/2024/01/gender-and-international-criminal-law">https://www.univer
 siteitleiden.nl/en/events/2024/01/gender-and-international-criminal-law</a>
 </p><p>[av_button label='iCal-Export' link='./feed/eo-events' link_target='
 ' size='small' position='center' label_display='' title_attr='' icon_select
 ='yes' icon='ue85b' font='entypo-fontello' color='custom' custom_bg='#b5123
 e' custom_font='#ffffff' av_uid='' id='' custom_class='' admin_preview_bg='
 ']</p>
CATEGORIES:Recht interdisziplinär
LOCATION:Ausland
GEO:0.000000;0.000000
ORGANIZER;CN="ViFa-Recht":MAILTO:vifa-recht@sbb.spk-berlin.de
URL;VALUE=URI:https://events.intrecht.de/termine/termin/gender-and-internat
 ional-criminal-law-conference/
END:VEVENT
BEGIN:VTIMEZONE
TZID:Europe/Berlin
BEGIN:STANDARD
TZOFFSETFROM:+0200
TZOFFSETTO:+0100
DTSTART:20231029T010000
TZNAME:CET
END:STANDARD
END:VTIMEZONE
END:VCALENDAR
