BEGIN:VCALENDAR
VERSION:2.0
PRODID:-//Events | FID-Recht//NONSGML Events//EN
CALSCALE:GREGORIAN
X-ORIGINAL-URL:https://events.intrecht.de/termine/
X-WR-CALDESC:Events | FID-Recht - Events
BEGIN:VEVENT
UID:20220204T1040Z-1643971221.8653-EO-4251-1@172.16.200.141
STATUS:CONFIRMED
DTSTAMP:20260421T102853Z
CREATED:20220127T204359Z
LAST-MODIFIED:20220127T204359Z
DTSTART;VALUE=DATE:20220209
DTEND;VALUE=DATE:20220210
SUMMARY: Gedächtnissoziologie. Gewaltgedächtnisse (mit Oliver Dimbarth) / D
 er Beitrag des Rechts zum kulturellen Gedächtnis (mit Stephan Kirste) (Onli
 ne-Vorträge)
DESCRIPTION: 9.2.2022\, Online Passauer 10 Minuten zum Thema Gewalt • Unive
 rsität Passau (uni-passau.de)    
X-ALT-DESC;FMTTYPE=text/html: <p>9.2.2022\, Online</p><p><a href="https://w
 ww.phil.uni-passau.de/10minuten-wise21/">Passauer 10 Minuten zum Thema Gewa
 lt • Universität Passau (uni-passau.de)</a></p><p> </p><p> </p><p>[av_butto
 n label='iCal-Export' link='./feed/eo-events' link_target='' size='small' p
 osition='center' label_display='' title_attr='' icon_select='yes' icon='ue8
 5b' font='entypo-fontello' color='custom' custom_bg='#b5123e' custom_font='
 #ffffff' av_uid='' id='' custom_class='' admin_preview_bg='']</p>
CATEGORIES:Recht interdisziplinär
LOCATION:Online
GEO:0.000000;0.000000
ORGANIZER;CN="ViFa-Recht":MAILTO:vifa-recht@sbb.spk-berlin.de
URL;VALUE=URI:https://events.intrecht.de/termine/termin/gedaechtnissoziolog
 ie-gewaltgedaechtnisse-mit-oliver-dimbarth-der-beitrag-des-rechts-zum-kultu
 rellen-gedaechtnis-mit-stephan-kirste-online-vortraege/
END:VEVENT
BEGIN:VTIMEZONE
TZID:Europe/Berlin
BEGIN:STANDARD
TZOFFSETFROM:+0200
TZOFFSETTO:+0100
DTSTART:20211031T010000
TZNAME:CET
END:STANDARD
END:VTIMEZONE
END:VCALENDAR
