BEGIN:VCALENDAR
VERSION:2.0
PRODID:-//Events | FID-Recht//NONSGML Events//EN
CALSCALE:GREGORIAN
X-ORIGINAL-URL:https://events.intrecht.de/termine/
X-WR-CALDESC:Events | FID-Recht - Events
BEGIN:VEVENT
UID:20200603T1418Z-1591193923.3362-EO-587-1@172.16.200.141
STATUS:CONFIRMED
DTSTAMP:20260423T110739Z
CREATED:20230905T103754Z
LAST-MODIFIED:20230905T103754Z
DTSTART;VALUE=DATE:20231102
DTEND;VALUE=DATE:20231103
SUMMARY: #FUTUREOFLAW BarCamp
DESCRIPTION: 2.11.2023 / Hamburg https://events.mpipriv.de/b/?p=futureoflaw
 2023_en
X-ALT-DESC;FMTTYPE=text/html: <p>2.11.2023 / Hamburg</p><p><a href="https:/
 /events.mpipriv.de/b/?p=futureoflaw2023_en">https://events.mpipriv.de/b/?p=
 futureoflaw2023_en</a></p><p>[av_button label='iCal-Export' link='./feed/eo
 -events' link_target='' size='small' position='center' label_display='' tit
 le_attr='' icon_select='yes' icon='ue85b' font='entypo-fontello' color='cus
 tom' custom_bg='#b5123e' custom_font='#ffffff' av_uid='' id='' custom_class
 ='' admin_preview_bg='']</p>
CATEGORIES:Recht interdisziplinär
LOCATION:Inland
GEO:0.000000;0.000000
ORGANIZER;CN="ViFa-Recht":MAILTO:vifa-recht@sbb.spk-berlin.de
URL;VALUE=URI:https://events.intrecht.de/termine/termin/futureoflaw-barcamp
 /
END:VEVENT
BEGIN:VTIMEZONE
TZID:Europe/Berlin
BEGIN:STANDARD
TZOFFSETFROM:+0200
TZOFFSETTO:+0100
DTSTART:20231029T010000
TZNAME:CET
END:STANDARD
END:VTIMEZONE
END:VCALENDAR
