BEGIN:VCALENDAR
VERSION:2.0
PRODID:-//Events | FID-Recht//NONSGML Events//EN
CALSCALE:GREGORIAN
X-ORIGINAL-URL:https://events.intrecht.de/termine/
X-WR-CALDESC:Events | FID-Recht - Events
BEGIN:VEVENT
UID:20220527T1944Z-1653680672.1279-EO-4047-1@172.16.200.151
STATUS:CONFIRMED
DTSTAMP:20260421T133514Z
CREATED:20220524T131027Z
LAST-MODIFIED:20220524T131027Z
DTSTART;VALUE=DATE:20220525
DTEND;VALUE=DATE:20220525
SUMMARY: Funding and Costs of ADR in the Civil Justice System (Online-Semin
 ar)
DESCRIPTION: 25.5.2022\, Online Seminar Series Trends and Challenges in Cos
 ts and Funding of Civil Justice | Building EU civil justice  
X-ALT-DESC;FMTTYPE=text/html: <p>25.5.2022\, Online</p><p><a href="http://w
 ww.euciviljustice.eu/en/news/seminar-series-trends-and-challenges-in-costs-
 and-funding-of-civil-jus2">Seminar Series Trends and Challenges in Costs an
 d Funding of Civil Justice | Building EU civil justice</a></p><p> </p><p>[a
 v_button label='iCal-Export' link='./feed/eo-events' link_target='' size='s
 mall' position='center' label_display='' title_attr='' icon_select='yes' ic
 on='ue85b' font='entypo-fontello' color='custom' custom_bg='#b5123e' custom
 _font='#ffffff' av_uid='' id='' custom_class='' admin_preview_bg='']</p>
CATEGORIES:Europäisches / Internationales Recht,Zivilrecht
ORGANIZER;CN="ViFa-Recht":MAILTO:vifa-recht@sbb.spk-berlin.de
URL;VALUE=URI:https://events.intrecht.de/termine/termin/funding-and-costs-o
 f-adr-in-the-civil-justice-system-online-seminar/
END:VEVENT
BEGIN:VTIMEZONE
TZID:Europe/Berlin
BEGIN:DAYLIGHT
TZOFFSETFROM:+0100
TZOFFSETTO:+0200
DTSTART:20220327T010000
TZNAME:CEST
END:DAYLIGHT
END:VTIMEZONE
END:VCALENDAR
