BEGIN:VCALENDAR
VERSION:2.0
PRODID:-//Events | FID-Recht//NONSGML Events//EN
CALSCALE:GREGORIAN
X-ORIGINAL-URL:https://events.intrecht.de/termine/
X-WR-CALDESC:Events | FID-Recht - Events
BEGIN:VEVENT
UID:20200603T1418Z-1591193923.3362-EO-587-1@172.16.200.141
STATUS:CONFIRMED
DTSTAMP:20260422T193820Z
CREATED:20231212T171716Z
LAST-MODIFIED:20231212T171716Z
DTSTART;VALUE=DATE:20240529
DTEND;VALUE=DATE:20240531
SUMMARY: From Words to Action: Rethinking Justice in a Globalised World (10
 th Edinburgh Postgraduate Law Conference)
DESCRIPTION: 29.-30.5.2024 / Edinburgh (Einreichungsfrist: 4.2.2024) https:
 //www.law.ed.ac.uk/sites/default/files/2023-11/Call%20for%20Papers-New.pdf
X-ALT-DESC;FMTTYPE=text/html: <p>29.-30.5.2024 / Edinburgh <strong>(Einreic
 hungsfrist: 4.2.2024)</strong></p><p><a href="https://www.law.ed.ac.uk/site
 s/default/files/2023-11/Call%20for%20Papers-New.pdf">https://www.law.ed.ac.
 uk/sites/default/files/2023-11/Call%20for%20Papers-New.pdf</a></p><p>[av_bu
 tton label='iCal-Export' link='./feed/eo-events' link_target='' size='small
 ' position='center' label_display='' title_attr='' icon_select='yes' icon='
 ue85b' font='entypo-fontello' color='custom' custom_bg='#b5123e' custom_fon
 t='#ffffff' av_uid='' id='' custom_class='' admin_preview_bg='']</p>
CATEGORIES:Recht interdisziplinär
LOCATION:Ausland
GEO:0.000000;0.000000
ORGANIZER;CN="ViFa-Recht":MAILTO:vifa-recht@sbb.spk-berlin.de
URL;VALUE=URI:https://events.intrecht.de/termine/termin/from-words-to-actio
 n-rethinking-justice-in-a-globalised-world-10th-edinburgh-postgraduate-law-
 conference/
END:VEVENT
BEGIN:VTIMEZONE
TZID:Europe/Berlin
BEGIN:DAYLIGHT
TZOFFSETFROM:+0100
TZOFFSETTO:+0200
DTSTART:20240331T010000
TZNAME:CEST
END:DAYLIGHT
END:VTIMEZONE
END:VCALENDAR
