BEGIN:VCALENDAR
VERSION:2.0
PRODID:-//Events | FID-Recht//NONSGML Events//EN
CALSCALE:GREGORIAN
X-ORIGINAL-URL:https://events.intrecht.de/termine/
X-WR-CALDESC:Events | FID-Recht - Events
BEGIN:VEVENT
UID:20200603T1418Z-1591193923.3362-EO-587-1@172.16.200.141
STATUS:CONFIRMED
DTSTAMP:20260422T225822Z
CREATED:20250513T133655Z
LAST-MODIFIED:20250513T133655Z
DTSTART;VALUE=DATE:20250522
DTEND;VALUE=DATE:20250523
SUMMARY: From Things to Where? Contemporary Animal Law at the Crossroads (H
 ybrid Event)
DESCRIPTION: 22.5.2025 / Online und Hamburg https://events.mpipriv.de/b?p=c
 omparative_animal_law_with_prof_tomasz_pietrzykowski
X-ALT-DESC;FMTTYPE=text/html: <p>22.5.2025 / Online und Hamburg</p><p><a hr
 ef="https://events.mpipriv.de/b?p=comparative_animal_law_with_prof_tomasz_p
 ietrzykowski">https://events.mpipriv.de/b?p=comparative_animal_law_with_pro
 f_tomasz_pietrzykowski</a></p><p>[av_button label='iCal-Export' link='./fee
 d/eo-events' link_target='' size='small' position='center' label_display=''
  title_attr='' icon_select='yes' icon='ue85b' font='entypo-fontello' color=
 'custom' custom_bg='#b5123e' custom_font='#ffffff' av_uid='' id='' custom_c
 lass='' admin_preview_bg='']</p>
CATEGORIES:Recht interdisziplinär
LOCATION:Hybrid
GEO:0.000000;0.000000
ORGANIZER;CN="ViFa-Recht":MAILTO:vifa-recht@sbb.spk-berlin.de
URL;VALUE=URI:https://events.intrecht.de/termine/termin/from-things-to-wher
 e-contemporary-animal-law-at-the-crossroads-hybrid-event/
END:VEVENT
BEGIN:VTIMEZONE
TZID:Europe/Berlin
BEGIN:DAYLIGHT
TZOFFSETFROM:+0100
TZOFFSETTO:+0200
DTSTART:20250330T010000
TZNAME:CEST
END:DAYLIGHT
END:VTIMEZONE
END:VCALENDAR
