BEGIN:VCALENDAR
VERSION:2.0
PRODID:-//Events | FID-Recht//NONSGML Events//EN
CALSCALE:GREGORIAN
X-ORIGINAL-URL:https://events.intrecht.de/termine/
X-WR-CALDESC:Events | FID-Recht - Events
BEGIN:VEVENT
UID:20200603T1418Z-1591193923.3362-EO-587-1@172.16.200.141
STATUS:CONFIRMED
DTSTAMP:20260425T150251Z
CREATED:20240314T095402Z
LAST-MODIFIED:20240314T095402Z
DTSTART;VALUE=DATE:20241003
DTEND;VALUE=DATE:20241005
SUMMARY: From Protection to Coercion: the Limits of Positive Obligations in
  Human Rights Law (Conference)
DESCRIPTION: 3.-4.10.2024 / Lund (Einreichungsfrist: 31.3.2024) https://www
 .jur.lu.se/sites/jur.lu.se/files/2024-03/Call%20for%20Papers%20published.pd
 f
X-ALT-DESC;FMTTYPE=text/html: <p>3.-4.10.2024 / Lund <strong>(Einreichungsf
 rist: 31.3.2024)</strong></p><p><a href="https://www.jur.lu.se/sites/jur.lu
 .se/files/2024-03/Call%20for%20Papers%20published.pdf">https://www.jur.lu.s
 e/sites/jur.lu.se/files/2024-03/Call%20for%20Papers%20published.pdf</a></p>
 <p>[av_button label='iCal-Export' link='./feed/eo-events' link_target='' si
 ze='small' position='center' label_display='' title_attr='' icon_select='ye
 s' icon='ue85b' font='entypo-fontello' color='custom' custom_bg='#b5123e' c
 ustom_font='#ffffff' av_uid='' id='' custom_class='' admin_preview_bg='']</
 p>
CATEGORIES:Europäisches / Internationales Recht
LOCATION:Ausland
GEO:0.000000;0.000000
ORGANIZER;CN="ViFa-Recht":MAILTO:vifa-recht@sbb.spk-berlin.de
URL;VALUE=URI:https://events.intrecht.de/termine/termin/from-protection-to-
 coercion-the-limits-of-positive-obligations-in-human-rights-law-conference/
END:VEVENT
BEGIN:VTIMEZONE
TZID:Europe/Berlin
BEGIN:DAYLIGHT
TZOFFSETFROM:+0100
TZOFFSETTO:+0200
DTSTART:20240331T010000
TZNAME:CEST
END:DAYLIGHT
END:VTIMEZONE
END:VCALENDAR
