BEGIN:VCALENDAR
VERSION:2.0
PRODID:-//Events | FID-Recht//NONSGML Events//EN
CALSCALE:GREGORIAN
X-ORIGINAL-URL:https://events.intrecht.de/termine/
X-WR-CALDESC:Events | FID-Recht - Events
BEGIN:VEVENT
UID:20200603T1418Z-1591193923.3362-EO-587-1@172.16.200.141
STATUS:CONFIRMED
DTSTAMP:20260422T212830Z
CREATED:20240816T104846Z
LAST-MODIFIED:20240816T104846Z
DTSTART;VALUE=DATE:20240911
DTEND;VALUE=DATE:20240912
SUMMARY: From PhD to Published (Webinar)
DESCRIPTION: 11.9.2024 / Online https://forms.office.com/pages/responsepage
 .aspx?id=zPVUFDW7hUa72YYh_YBVyUe_wsOhM5BBsKX53tjlaMpUM00xUlM5WFc1T0tMTDVUQ1
 oyTUdBWkpMTi4u
X-ALT-DESC;FMTTYPE=text/html: <p>11.9.2024 / Online</p><p><a href="https://
 forms.office.com/pages/responsepage.aspx?id=zPVUFDW7hUa72YYh_YBVyUe_wsOhM5B
 BsKX53tjlaMpUM00xUlM5WFc1T0tMTDVUQ1oyTUdBWkpMTi4u">https://forms.office.com
 /pages/responsepage.aspx?id=zPVUFDW7hUa72YYh_YBVyUe_wsOhM5BBsKX53tjlaMpUM00
 xUlM5WFc1T0tMTDVUQ1oyTUdBWkpMTi4u</a></p><p>[av_button label='iCal-Export' 
 link='./feed/eo-events' link_target='' size='small' position='center' label
 _display='' title_attr='' icon_select='yes' icon='ue85b' font='entypo-fonte
 llo' color='custom' custom_bg='#b5123e' custom_font='#ffffff' av_uid='' id=
 '' custom_class='' admin_preview_bg='']</p>
CATEGORIES:Recht interdisziplinär
LOCATION:Online
GEO:0.000000;0.000000
ORGANIZER;CN="ViFa-Recht":MAILTO:vifa-recht@sbb.spk-berlin.de
URL;VALUE=URI:https://events.intrecht.de/termine/termin/from-phd-to-publish
 ed-webinar/
END:VEVENT
BEGIN:VTIMEZONE
TZID:Europe/Berlin
BEGIN:DAYLIGHT
TZOFFSETFROM:+0100
TZOFFSETTO:+0200
DTSTART:20240331T010000
TZNAME:CEST
END:DAYLIGHT
END:VTIMEZONE
END:VCALENDAR
