BEGIN:VCALENDAR
VERSION:2.0
PRODID:-//Events | FID-Recht//NONSGML Events//EN
CALSCALE:GREGORIAN
X-ORIGINAL-URL:https://events.intrecht.de/termine/
X-WR-CALDESC:Events | FID-Recht - Events
BEGIN:VEVENT
UID:20210314T1652Z-1615740730.2136-EO-3511-1@172.16.200.141
STATUS:CONFIRMED
DTSTAMP:20260421T213422Z
CREATED:20210311T163344Z
LAST-MODIFIED:20210311T163344Z
DTSTART;VALUE=DATE:20210316
DTEND;VALUE=DATE:20210316
SUMMARY: From Personal to Institutional Ownership of and Authority Conveyed
  by Ceremonial Maces in England\, 1272-1649 (Cambridge Legal and Social His
 tory Workshop) (mit Kathrin Strauss) (Online-Vortrag)
DESCRIPTION: 16.3.2021\, Online https://twitter.com/CamLegalSocial/status/1
 352557870626181120  
X-ALT-DESC;FMTTYPE=text/html: <p>16.3.2021\, Online</p><p><a href="https://
 twitter.com/CamLegalSocial/status/1352557870626181120">https://twitter.com/
 CamLegalSocial/status/1352557870626181120</a></p><p> </p><p>[av_button labe
 l='iCal-Export' link='./feed/eo-events' link_target='' size='small' positio
 n='center' label_display='' title_attr='' icon_select='yes' icon='ue85b' fo
 nt='entypo-fontello' color='custom' custom_bg='#b5123e' custom_font='#fffff
 f' av_uid='' id='' custom_class='' admin_preview_bg='']</p>
CATEGORIES:Recht interdisziplinär
LOCATION:Online
GEO:0.000000;0.000000
ORGANIZER;CN="ViFa-Recht":MAILTO:vifa-recht@sbb.spk-berlin.de
URL;VALUE=URI:https://events.intrecht.de/termine/termin/from-personal-to-in
 stitutional-ownership-of-and-authority-conveyed-by-ceremonial-maces-in-engl
 and-1272-1649-cambridge-legal-and-social-history-workshop-mit-kathrin-strau
 ss-online-vortrag/
END:VEVENT
BEGIN:VTIMEZONE
TZID:Europe/Berlin
BEGIN:STANDARD
TZOFFSETFROM:+0200
TZOFFSETTO:+0100
DTSTART:20201025T010000
TZNAME:CET
END:STANDARD
END:VTIMEZONE
END:VCALENDAR
