BEGIN:VCALENDAR
VERSION:2.0
PRODID:-//Events | FID-Recht//NONSGML Events//EN
CALSCALE:GREGORIAN
X-ORIGINAL-URL:https://events.intrecht.de/termine/
X-WR-CALDESC:Events | FID-Recht - Events
BEGIN:VEVENT
UID:20200603T1418Z-1591193923.3362-EO-587-1@172.16.200.141
STATUS:CONFIRMED
DTSTAMP:20260423T020937Z
CREATED:20241002T170346Z
LAST-MODIFIED:20241002T170346Z
DTSTART;VALUE=DATE:20241215
DTEND;VALUE=DATE:20241217
SUMMARY: From Hopelessness to Hopefulness: Strengthening Children’s Rights 
 and Well-being during and after Crisis (Conference)
DESCRIPTION: 15.-16.12.2024 / Jerusalem https://en.minervacenter.huji.ac.il
 /upcoming-events
X-ALT-DESC;FMTTYPE=text/html: <p>15.-16.12.2024 / Jerusalem</p><p><a href="
 https://en.minervacenter.huji.ac.il/upcoming-events">https://en.minervacent
 er.huji.ac.il/upcoming-events</a></p><p>[av_button label='iCal-Export' link
 ='./feed/eo-events' link_target='' size='small' position='center' label_dis
 play='' title_attr='' icon_select='yes' icon='ue85b' font='entypo-fontello'
  color='custom' custom_bg='#b5123e' custom_font='#ffffff' av_uid='' id='' c
 ustom_class='' admin_preview_bg='']</p>
CATEGORIES:Europäisches / Internationales Recht
LOCATION:Ausland
GEO:0.000000;0.000000
ORGANIZER;CN="ViFa-Recht":MAILTO:vifa-recht@sbb.spk-berlin.de
URL;VALUE=URI:https://events.intrecht.de/termine/termin/from-hopelessness-t
 o-hopefulness-strengthening-childrens-rights-and-well-being-during-and-afte
 r-crisis-conference/
END:VEVENT
BEGIN:VTIMEZONE
TZID:Europe/Berlin
BEGIN:STANDARD
TZOFFSETFROM:+0200
TZOFFSETTO:+0100
DTSTART:20241027T010000
TZNAME:CET
END:STANDARD
END:VTIMEZONE
END:VCALENDAR
