BEGIN:VCALENDAR
VERSION:2.0
PRODID:-//Events | FID-Recht//NONSGML Events//EN
CALSCALE:GREGORIAN
X-ORIGINAL-URL:https://events.intrecht.de/termine/
X-WR-CALDESC:Events | FID-Recht - Events
BEGIN:VEVENT
UID:20220501T1046Z-1651401996.2757-EO-6781-1@172.16.200.141
STATUS:CONFIRMED
DTSTAMP:20260419T145624Z
CREATED:20220422T092900Z
LAST-MODIFIED:20220422T092900Z
DTSTART;VALUE=DATE:20220429
DTEND;VALUE=DATE:20220429
SUMMARY: From Hard to Soft Content Moderation? Amplifications of Content on
  Social Media (with Moritz Schramm and Fernanda Brememnkamp) (Online-Vortra
 g)
DESCRIPTION: 29.4.2022\, Online From ‚Hard‘ to ‚Soft‘ Content Moderation? T
 he Amplification and Demotion of Content on Social Media — DynamInt (hu-ber
 lin.de)  
X-ALT-DESC;FMTTYPE=text/html: <p>29.4.2022\, Online</p><p><a href="https://
 www.rewi.hu-berlin.de/de/lf/oe/rhp/veranstaltungen/from-hard-to-soft-conten
 t-moderation-the-amplification-and-demotion-of-content-on-social-media-1/fr
 om-hard-to-soft-content-moderation-the-amplification-and-demotion-of-conten
 t-on-social-media">From 'Hard' to 'Soft' Content Moderation? The Amplificat
 ion and Demotion of Content on Social Media — DynamInt (hu-berlin.de)</a></
 p><p> </p><p>[av_button label='iCal-Export' link='./feed/eo-events' link_ta
 rget='' size='small' position='center' label_display='' title_attr='' icon_
 select='yes' icon='ue85b' font='entypo-fontello' color='custom' custom_bg='
 #b5123e' custom_font='#ffffff' av_uid='' id='' custom_class='' admin_previe
 w_bg='']</p>
CATEGORIES:Recht interdisziplinär
LOCATION:Online
GEO:0.000000;0.000000
ORGANIZER;CN="ViFa-Recht":MAILTO:vifa-recht@sbb.spk-berlin.de
URL;VALUE=URI:https://events.intrecht.de/termine/termin/from-hard-to-soft-c
 ontent-moderation-amplifications-of-content-on-social-media-with-moritz-sch
 ramm-and-fernanda-brememnkamp-online-vortrag/
END:VEVENT
BEGIN:VTIMEZONE
TZID:Europe/Berlin
BEGIN:DAYLIGHT
TZOFFSETFROM:+0100
TZOFFSETTO:+0200
DTSTART:20220327T010000
TZNAME:CEST
END:DAYLIGHT
END:VTIMEZONE
END:VCALENDAR
