BEGIN:VCALENDAR
VERSION:2.0
PRODID:-//Events | FID-Recht//NONSGML Events//EN
CALSCALE:GREGORIAN
X-ORIGINAL-URL:https://events.intrecht.de/termine/
X-WR-CALDESC:Events | FID-Recht - Events
BEGIN:VEVENT
UID:20200603T1418Z-1591193923.3362-EO-587-1@172.16.200.141
STATUS:CONFIRMED
DTSTAMP:20260425T150254Z
CREATED:20231017T143940Z
LAST-MODIFIED:20231017T143940Z
DTSTART;VALUE=DATE:20231019
DTEND;VALUE=DATE:20231020
SUMMARY: From Gdańsk to Kraków: Monitoring Online Polish Electoral Discours
 e (Webinar)
DESCRIPTION: 19.10.2023 / Online https://mailchi.mp/democracy-reporting.org
 /disinfocon-confirmation-and-event-details-9086903?e=76e08dc60c
X-ALT-DESC;FMTTYPE=text/html: <p>19.10.2023 / Online</p><p><a href="https:/
 /mailchi.mp/democracy-reporting.org/disinfocon-confirmation-and-event-detai
 ls-9086903?e=76e08dc60c">https://mailchi.mp/democracy-reporting.org/disinfo
 con-confirmation-and-event-details-9086903?e=76e08dc60c</a></p><p>[av_butto
 n label='iCal-Export' link='./feed/eo-events' link_target='' size='small' p
 osition='center' label_display='' title_attr='' icon_select='yes' icon='ue8
 5b' font='entypo-fontello' color='custom' custom_bg='#b5123e' custom_font='
 #ffffff' av_uid='' id='' custom_class='' admin_preview_bg='']</p>
CATEGORIES:Recht interdisziplinär
LOCATION:Online
GEO:0.000000;0.000000
ORGANIZER;CN="ViFa-Recht":MAILTO:vifa-recht@sbb.spk-berlin.de
URL;VALUE=URI:https://events.intrecht.de/termine/termin/from-gdansk-to-krak
 ow-monitoring-online-polish-electoral-discourse-webinar/
END:VEVENT
BEGIN:VTIMEZONE
TZID:Europe/Berlin
BEGIN:DAYLIGHT
TZOFFSETFROM:+0100
TZOFFSETTO:+0200
DTSTART:20230326T010000
TZNAME:CEST
END:DAYLIGHT
END:VTIMEZONE
END:VCALENDAR
