BEGIN:VCALENDAR
VERSION:2.0
PRODID:-//Events | FID-Recht//NONSGML Events//EN
CALSCALE:GREGORIAN
X-ORIGINAL-URL:https://events.intrecht.de/termine/
X-WR-CALDESC:Events | FID-Recht - Events
BEGIN:VEVENT
UID:20200602T0945Z-1591091115.9737-EO-599-1@172.16.200.141
STATUS:CONFIRMED
DTSTAMP:20260423T074847Z
CREATED:20260413T103925Z
LAST-MODIFIED:20260413T103925Z
DTSTART;VALUE=DATE:20260702
DTEND;VALUE=DATE:20260704
SUMMARY: From Frameworks to Functioning Law: Bridging the Creation\, Implem
 entation\, and Enforcement of Sustainability Law (5th Young Sustainability 
 Law Conference)
DESCRIPTION: 2.-3.7.2026 / Istanbul https://law.mpg.de/event/from-framework
 s-to-functioning-law-bridging-the-creation-implementation-and-enforcement-o
 f-sustainability-law/
X-ALT-DESC;FMTTYPE=text/html: <p>2.-3.7.2026 / Istanbul</p><p><a href="http
 s://law.mpg.de/event/from-frameworks-to-functioning-law-bridging-the-creati
 on-implementation-and-enforcement-of-sustainability-law/">https://law.mpg.d
 e/event/from-frameworks-to-functioning-law-bridging-the-creation-implementa
 tion-and-enforcement-of-sustainability-law/</a></p><p>[av_button label='iCa
 l-Export' link='./feed/eo-events' link_target='' size='small' position='cen
 ter' label_display='' title_attr='' icon_select='yes' icon='ue85b' font='en
 typo-fontello' color='custom' custom_bg='#b5123e' custom_font='#ffffff' av_
 uid='' id='' custom_class='' admin_preview_bg='']</p>
CATEGORIES:Europäisches / Internationales Recht
LOCATION:Ausland
GEO:0.000000;0.000000
ORGANIZER;CN="ViFa-Recht":MAILTO:vifa-recht@sbb.spk-berlin.de
URL;VALUE=URI:https://events.intrecht.de/termine/termin/from-frameworks-to-
 functioning-law-bridging-the-creation-implementation-and-enforcement-of-sus
 tainability-law-5th-young-sustainability-law-conference/
END:VEVENT
BEGIN:VTIMEZONE
TZID:Europe/Berlin
BEGIN:DAYLIGHT
TZOFFSETFROM:+0100
TZOFFSETTO:+0200
DTSTART:20260329T010000
TZNAME:CEST
END:DAYLIGHT
END:VTIMEZONE
END:VCALENDAR
