BEGIN:VCALENDAR
VERSION:2.0
PRODID:-//Events | FID-Recht//NONSGML Events//EN
CALSCALE:GREGORIAN
X-ORIGINAL-URL:https://events.intrecht.de/termine/
X-WR-CALDESC:Events | FID-Recht - Events
BEGIN:VEVENT
UID:20200603T1418Z-1591193923.3362-EO-587-1@172.16.200.141
STATUS:CONFIRMED
DTSTAMP:20260422T193846Z
CREATED:20240613T091724Z
LAST-MODIFIED:20240613T091724Z
DTSTART;VALUE=DATE:20240624
DTEND;VALUE=DATE:20240625
SUMMARY: From a Distance: Reflections on German Law and Legal Culture (Hybr
 id Workshop)
DESCRIPTION: 24.6.2024 / Online und Heidelberg https://law.mpg.de/event/fro
 m-a-distance-reflections-on-german-law-and-legal-culture-a-conversation-wit
 h-russell-miller/
X-ALT-DESC;FMTTYPE=text/html: <p>24.6.2024 / Online und Heidelberg</p><p><a
  href="https://law.mpg.de/event/from-a-distance-reflections-on-german-law-a
 nd-legal-culture-a-conversation-with-russell-miller/">https://law.mpg.de/ev
 ent/from-a-distance-reflections-on-german-law-and-legal-culture-a-conversat
 ion-with-russell-miller/</a></p><p>[av_button label='iCal-Export' link='./f
 eed/eo-events' link_target='' size='small' position='center' label_display=
 '' title_attr='' icon_select='yes' icon='ue85b' font='entypo-fontello' colo
 r='custom' custom_bg='#b5123e' custom_font='#ffffff' av_uid='' id='' custom
 _class='' admin_preview_bg='']</p>
CATEGORIES:Europäisches / Internationales Recht
LOCATION:Hybrid
GEO:0.000000;0.000000
ORGANIZER;CN="ViFa-Recht":MAILTO:vifa-recht@sbb.spk-berlin.de
URL;VALUE=URI:https://events.intrecht.de/termine/termin/from-a-distance-ref
 lections-on-german-law-and-legal-culture-hybrid-workshop/
END:VEVENT
BEGIN:VTIMEZONE
TZID:Europe/Berlin
BEGIN:DAYLIGHT
TZOFFSETFROM:+0100
TZOFFSETTO:+0200
DTSTART:20240331T010000
TZNAME:CEST
END:DAYLIGHT
END:VTIMEZONE
END:VCALENDAR
