BEGIN:VCALENDAR
VERSION:2.0
PRODID:-//Events | FID-Recht//NONSGML Events//EN
CALSCALE:GREGORIAN
X-ORIGINAL-URL:https://events.intrecht.de/termine/
X-WR-CALDESC:Events | FID-Recht - Events
BEGIN:VEVENT
UID:20220415T2322Z-1650064978.2124-EO-5300-1@172.16.200.141
STATUS:CONFIRMED
DTSTAMP:20260426T003802Z
CREATED:20220406T180953Z
LAST-MODIFIED:20220406T181843Z
DTSTART;VALUE=DATE:20220421
DTEND;VALUE=DATE:20220422
SUMMARY: Fritz Bauer. Der Staatsanwalt – NS-Verbrechen vor Gericht (Ausstel
 lungseröffnung)
DESCRIPTION: 21.4.2022\, Wien (Ausstellungszeitraum: 21.4.-19.5.2022) https
 ://www.fritz-bauer-institut.de/veranstaltungen/veranstaltung/fritz-bauer-de
 r-staatsanwalt-eroeffnung-wien-2022  
X-ALT-DESC;FMTTYPE=text/html: <p>21.4.2022\, Wien (Ausstellungszeitraum: 21
 .4.-19.5.2022)</p><p><a href="https://www.fritz-bauer-institut.de/veranstal
 tungen/veranstaltung/fritz-bauer-der-staatsanwalt-eroeffnung-wien-2022">htt
 ps://www.fritz-bauer-institut.de/veranstaltungen/veranstaltung/fritz-bauer-
 der-staatsanwalt-eroeffnung-wien-2022</a></p><p> </p><p>[av_button label='i
 Cal-Export' link='./feed/eo-events' link_target='' size='small' position='c
 enter' label_display='' title_attr='' icon_select='yes' icon='ue85b' font='
 entypo-fontello' color='custom' custom_bg='#b5123e' custom_font='#ffffff' a
 v_uid='' id='' custom_class='' admin_preview_bg='']</p>
CATEGORIES:Recht interdisziplinär
LOCATION:Ausland
GEO:0.000000;0.000000
ORGANIZER;CN="ViFa-Recht":MAILTO:vifa-recht@sbb.spk-berlin.de
URL;VALUE=URI:https://events.intrecht.de/termine/termin/fritz-bauer-der-sta
 atsanwalt-ns-verbrechen-vor-gericht-ausstellungseroeffnung/
END:VEVENT
BEGIN:VTIMEZONE
TZID:Europe/Berlin
BEGIN:DAYLIGHT
TZOFFSETFROM:+0100
TZOFFSETTO:+0200
DTSTART:20220327T010000
TZNAME:CEST
END:DAYLIGHT
END:VTIMEZONE
END:VCALENDAR
