BEGIN:VCALENDAR
VERSION:2.0
PRODID:-//Events | FID-Recht//NONSGML Events//EN
CALSCALE:GREGORIAN
X-ORIGINAL-URL:https://events.intrecht.de/termine/
X-WR-CALDESC:Events | FID-Recht - Events
BEGIN:VEVENT
UID:20200602T0945Z-1591091115.9737-EO-599-1@172.16.200.141
STATUS:CONFIRMED
DTSTAMP:20260425T164828Z
CREATED:20260421T092403Z
LAST-MODIFIED:20260421T092403Z
DTSTART;VALUE=DATE:20260507
DTEND;VALUE=DATE:20260509
SUMMARY: Freiheitsstrafe ohne Bewährung? Zur europäischen Sanktionspraxis b
 ei ausländischen Verurteilten am Beispiel von Österreich\, Deutschland\, Sc
 hweiz und Italien (Tagung)
DESCRIPTION: 7.-8.5.2026 / Innsbruck https://www.uibk.ac.at/de/rewi/aktuell
 es-veranstaltungen/freiheitsstrafe-ohne-bewahrung/
X-ALT-DESC;FMTTYPE=text/html: <p>7.-8.5.2026 / Innsbruck</p><p><a href="htt
 ps://www.uibk.ac.at/de/rewi/aktuelles-veranstaltungen/freiheitsstrafe-ohne-
 bewahrung/">https://www.uibk.ac.at/de/rewi/aktuelles-veranstaltungen/freihe
 itsstrafe-ohne-bewahrung/</a></p><p>[av_button label='iCal-Export' link='./
 feed/eo-events' link_target='' size='small' position='center' label_display
 ='' title_attr='' icon_select='yes' icon='ue85b' font='entypo-fontello' col
 or='custom' custom_bg='#b5123e' custom_font='#ffffff' av_uid='' id='' custo
 m_class='' admin_preview_bg='']</p>
CATEGORIES:Strafrecht
LOCATION:Ausland
GEO:0.000000;0.000000
ORGANIZER;CN="ViFa-Recht":MAILTO:vifa-recht@sbb.spk-berlin.de
URL;VALUE=URI:https://events.intrecht.de/termine/termin/freiheitsstrafe-ohn
 e-bewaehrung-zur-europaeischen-sanktionspraxis-bei-auslaendischen-verurteil
 ten-am-beispiel-von-oesterreich-deutschland-schweiz-und-italien-tagung/
END:VEVENT
BEGIN:VTIMEZONE
TZID:Europe/Berlin
BEGIN:DAYLIGHT
TZOFFSETFROM:+0100
TZOFFSETTO:+0200
DTSTART:20260329T010000
TZNAME:CEST
END:DAYLIGHT
END:VTIMEZONE
END:VCALENDAR
