BEGIN:VCALENDAR
VERSION:2.0
PRODID:-//Events | FID-Recht//NONSGML Events//EN
CALSCALE:GREGORIAN
X-ORIGINAL-URL:https://events.intrecht.de/termine/
X-WR-CALDESC:Events | FID-Recht - Events
BEGIN:VEVENT
UID:20200603T1418Z-1591193923.3362-EO-587-1@172.16.200.141
STATUS:CONFIRMED
DTSTAMP:20260423T034619Z
CREATED:20241111T135804Z
LAST-MODIFIED:20241111T135804Z
DTSTART;VALUE=DATE:20250207
DTEND;VALUE=DATE:20250208
SUMMARY: Freedom of the seas and freedom of the individual: a historical ap
 praisal (Workshop)
DESCRIPTION: 7.2.2025 / London (Einreichungsfrist: 20.11.2024) https://driv
 e.google.com/file/d/1UQfNO59cXYqtSqqAOb6hIp1aUFEBtF14/view
X-ALT-DESC;FMTTYPE=text/html: <p>7.2.2025 / London<strong> (Einreichungsfri
 st: 20.11.2024)</strong></p><p><a href="https://drive.google.com/file/d/1UQ
 fNO59cXYqtSqqAOb6hIp1aUFEBtF14/view">https://drive.google.com/file/d/1UQfNO
 59cXYqtSqqAOb6hIp1aUFEBtF14/view</a></p><p>[av_button label='iCal-Export' l
 ink='./feed/eo-events' link_target='' size='small' position='center' label_
 display='' title_attr='' icon_select='yes' icon='ue85b' font='entypo-fontel
 lo' color='custom' custom_bg='#b5123e' custom_font='#ffffff' av_uid='' id='
 ' custom_class='' admin_preview_bg='']</p>
CATEGORIES:Recht interdisziplinär
LOCATION:Ausland
GEO:0.000000;0.000000
ORGANIZER;CN="ViFa-Recht":MAILTO:vifa-recht@sbb.spk-berlin.de
URL;VALUE=URI:https://events.intrecht.de/termine/termin/freedom-of-the-seas
 -and-freedom-of-the-individual-a-historical-appraisal-workshop/
END:VEVENT
BEGIN:VTIMEZONE
TZID:Europe/Berlin
BEGIN:STANDARD
TZOFFSETFROM:+0200
TZOFFSETTO:+0100
DTSTART:20241027T010000
TZNAME:CET
END:STANDARD
END:VTIMEZONE
END:VCALENDAR
