BEGIN:VCALENDAR
VERSION:2.0
PRODID:-//Events | FID-Recht//NONSGML Events//EN
CALSCALE:GREGORIAN
X-ORIGINAL-URL:https://events.intrecht.de/termine/
X-WR-CALDESC:Events | FID-Recht - Events
BEGIN:VEVENT
UID:20201010T0858Z-1602320287.3613-EO-1727-1@172.16.200.141
STATUS:CONFIRMED
DTSTAMP:20260422T143334Z
CREATED:20201007T133828Z
LAST-MODIFIED:20201007T133828Z
DTSTART;VALUE=DATE:20201014
DTEND;VALUE=DATE:20201014
SUMMARY: Freedom of Expression and the Internet (Online-Buchvorstellung)
DESCRIPTION: 14.10.2020\, Online https://www.hans-bredow-institut.de/de/ver
 anstaltung-event/buchvorstellung-freedom-of-expression-and-the-internet  
X-ALT-DESC;FMTTYPE=text/html: <p>14.10.2020\, Online</p><p><a href="https:/
 /www.hans-bredow-institut.de/de/veranstaltung-event/buchvorstellung-freedom
 -of-expression-and-the-internet">https://www.hans-bredow-institut.de/de/ver
 anstaltung-event/buchvorstellung-freedom-of-expression-and-the-internet</a>
 </p><p> </p><p>[av_button label='iCal-Export' link='./feed/eo-events' link_
 target='' size='small' position='center' label_display='' title_attr='' ico
 n_select='yes' icon='ue85b' font='entypo-fontello' color='custom' custom_bg
 ='#b5123e' custom_font='#ffffff' av_uid='' id='' custom_class='' admin_prev
 iew_bg='']</p>
CATEGORIES:Europäisches / Internationales Recht,Öffentliches Recht
LOCATION:Online
GEO:0.000000;0.000000
ORGANIZER;CN="ViFa-Recht":MAILTO:vifa-recht@sbb.spk-berlin.de
URL;VALUE=URI:https://events.intrecht.de/termine/termin/freedom-of-expressi
 on-and-the-internet-online-buchvorstellung/
END:VEVENT
BEGIN:VTIMEZONE
TZID:Europe/Berlin
BEGIN:DAYLIGHT
TZOFFSETFROM:+0100
TZOFFSETTO:+0200
DTSTART:20200329T010000
TZNAME:CEST
END:DAYLIGHT
END:VTIMEZONE
END:VCALENDAR
