BEGIN:VCALENDAR
VERSION:2.0
PRODID:-//Events | FID-Recht//NONSGML Events//EN
CALSCALE:GREGORIAN
X-ORIGINAL-URL:https://events.intrecht.de/termine/
X-WR-CALDESC:Events | FID-Recht - Events
BEGIN:VEVENT
UID:20210731T0959Z-1627725572.5851-EO-4143-1@172.16.200.141
STATUS:CONFIRMED
DTSTAMP:20260425T134206Z
CREATED:20210730T180503Z
LAST-MODIFIED:20210730T180503Z
DTSTART;VALUE=DATE:20211126
DTEND;VALUE=DATE:20211128
SUMMARY: Frauen*wahlrecht und Demokratie: Kritik\, Erinnerung\, Visionen (T
 agung)
DESCRIPTION: 26.-27.11.2021\, Zürich https://www.gendercampus.ch/de/sggf/fa
 chtagung-sggf-2021    
X-ALT-DESC;FMTTYPE=text/html: <p>26.-27.11.2021\, Zürich</p><p><a href="htt
 ps://www.gendercampus.ch/de/sggf/fachtagung-sggf-2021">https://www.genderca
 mpus.ch/de/sggf/fachtagung-sggf-2021</a></p><p> </p><p> </p><p>[av_button l
 abel='iCal-Export' link='./feed/eo-events' link_target='' size='small' posi
 tion='center' label_display='' title_attr='' icon_select='yes' icon='ue85b'
  font='entypo-fontello' color='custom' custom_bg='#b5123e' custom_font='#ff
 ffff' av_uid='' id='' custom_class='' admin_preview_bg='']</p>
CATEGORIES:Öffentliches Recht,Recht interdisziplinär
LOCATION:Ausland
GEO:0.000000;0.000000
ORGANIZER;CN="ViFa-Recht":MAILTO:vifa-recht@sbb.spk-berlin.de
URL;VALUE=URI:https://events.intrecht.de/termine/termin/frauenwahlrecht-und
 -demokratie-kritik-erinnerung-visionen-tagung/
END:VEVENT
BEGIN:VTIMEZONE
TZID:Europe/Berlin
BEGIN:STANDARD
TZOFFSETFROM:+0200
TZOFFSETTO:+0100
DTSTART:20211031T010000
TZNAME:CET
END:STANDARD
END:VTIMEZONE
END:VCALENDAR
