BEGIN:VCALENDAR
VERSION:2.0
PRODID:-//Events | FID-Recht//NONSGML Events//EN
CALSCALE:GREGORIAN
X-ORIGINAL-URL:https://events.intrecht.de/termine/
X-WR-CALDESC:Events | FID-Recht - Events
BEGIN:VEVENT
UID:20200603T1418Z-1591193923.3362-EO-587-1@172.16.200.141
STATUS:CONFIRMED
DTSTAMP:20260422T110607Z
CREATED:20240214T104030Z
LAST-MODIFIED:20240214T104030Z
DTSTART;VALUE=DATE:20240318
DTEND;VALUE=DATE:20240320
SUMMARY: Frauen und (politische) Macht (Parteienwissenschaftliches Symposio
 n)
DESCRIPTION: 18.-19.3.2024 / Düsseldorf (Anmeldefrist: 28.2.2024) https://w
 ww.pruf.de/news-detailansicht-real/anmeldung-zum-parteienwissenschaftlichen
 -symposion-2024
X-ALT-DESC;FMTTYPE=text/html: <p>18.-19.3.2024 / Düsseldorf <strong>(Anmeld
 efrist: 28.2.2024)</strong></p><p><a href="https://www.pruf.de/news-detaila
 nsicht-real/anmeldung-zum-parteienwissenschaftlichen-symposion-2024">https:
 //www.pruf.de/news-detailansicht-real/anmeldung-zum-parteienwissenschaftlic
 hen-symposion-2024</a></p><p>[av_button label='iCal-Export' link='./feed/eo
 -events' link_target='' size='small' position='center' label_display='' tit
 le_attr='' icon_select='yes' icon='ue85b' font='entypo-fontello' color='cus
 tom' custom_bg='#b5123e' custom_font='#ffffff' av_uid='' id='' custom_class
 ='' admin_preview_bg='']</p>
CATEGORIES:Recht interdisziplinär
LOCATION:Inland
GEO:0.000000;0.000000
ORGANIZER;CN="ViFa-Recht":MAILTO:vifa-recht@sbb.spk-berlin.de
URL;VALUE=URI:https://events.intrecht.de/termine/termin/frauen-und-politisc
 he-macht-parteienwissenschaftliches-symposion/
END:VEVENT
BEGIN:VTIMEZONE
TZID:Europe/Berlin
BEGIN:STANDARD
TZOFFSETFROM:+0200
TZOFFSETTO:+0100
DTSTART:20231029T010000
TZNAME:CET
END:STANDARD
END:VTIMEZONE
END:VCALENDAR
