BEGIN:VCALENDAR
VERSION:2.0
PRODID:-//Events | FID-Recht//NONSGML Events//EN
CALSCALE:GREGORIAN
X-ORIGINAL-URL:https://events.intrecht.de/termine/
X-WR-CALDESC:Events | FID-Recht - Events
BEGIN:VEVENT
UID:20220119T0510Z-1642569012.2467-EO-5708-1@172.16.200.141
STATUS:CONFIRMED
DTSTAMP:20260421T102407Z
CREATED:20220114T173348Z
LAST-MODIFIED:20220114T173348Z
DTSTART;VALUE=DATE:20220228
DTEND;VALUE=DATE:20220301
SUMMARY: Frau.Macht.Recht. (CfP)
DESCRIPTION: 15.7.2022\, Heidelberg (Frist für Einreichungen: 28.2.2022) Jo
 hanna Groß auf LinkedIn: Call for Papers: Frau.Macht.Recht.  
X-ALT-DESC;FMTTYPE=text/html: <p>15.7.2022\, Heidelberg (Frist für Einreich
 ungen: 28.2.2022)</p><p><a href="https://www.linkedin.com/posts/johannagros
 s_call-for-papers-fraumachtrecht-activity-6884138750390112256-nceC">Johanna
  Groß auf LinkedIn: Call for Papers: Frau.Macht.Recht.</a></p><p> </p><p>[a
 v_button label='iCal-Export' link='./feed/eo-events' link_target='' size='s
 mall' position='center' label_display='' title_attr='' icon_select='yes' ic
 on='ue85b' font='entypo-fontello' color='custom' custom_bg='#b5123e' custom
 _font='#ffffff' av_uid='' id='' custom_class='' admin_preview_bg='']</p>
CATEGORIES:Recht interdisziplinär
LOCATION:Inland
GEO:0.000000;0.000000
ORGANIZER;CN="ViFa-Recht":MAILTO:vifa-recht@sbb.spk-berlin.de
URL;VALUE=URI:https://events.intrecht.de/termine/termin/frau-macht-recht-cf
 p/
END:VEVENT
BEGIN:VTIMEZONE
TZID:Europe/Berlin
BEGIN:STANDARD
TZOFFSETFROM:+0200
TZOFFSETTO:+0100
DTSTART:20211031T010000
TZNAME:CET
END:STANDARD
END:VTIMEZONE
END:VCALENDAR
