BEGIN:VCALENDAR
VERSION:2.0
PRODID:-//Events | FID-Recht//NONSGML Events//EN
CALSCALE:GREGORIAN
X-ORIGINAL-URL:https://events.intrecht.de/termine/
X-WR-CALDESC:Events | FID-Recht - Events
BEGIN:VEVENT
UID:20200603T1418Z-1591193923.3362-EO-587-1@172.16.200.141
STATUS:CONFIRMED
DTSTAMP:20260425T151213Z
CREATED:20230620T163850Z
LAST-MODIFIED:20230620T163931Z
DTSTART;VALUE=DATE:20230705
DTEND;VALUE=DATE:20230706
SUMMARY: Frankfurter Rechtshistorische Abendgespräche: Erbrechtliche Konseq
 uenzen der Abkehr vom christlichen Glauben: spätantike Apostasiegesetzgebun
 g am Beispiel von C.Th. 16.7.2 (383)
DESCRIPTION: 5.7.2023 / Frankfurt am Main https://www.lhlt.mpg.de/events/34
 806/2077701
X-ALT-DESC;FMTTYPE=text/html: <p>5.7.2023 / Frankfurt am Main</p><p><a href
 ="https://www.lhlt.mpg.de/events/34806/2077701">https://www.lhlt.mpg.de/eve
 nts/34806/2077701</a></p><p>[av_button label='iCal-Export' link='./feed/eo-
 events' link_target='' size='small' position='center' label_display='' titl
 e_attr='' icon_select='yes' icon='ue85b' font='entypo-fontello' color='cust
 om' custom_bg='#b5123e' custom_font='#ffffff' av_uid='' id='' custom_class=
 '' admin_preview_bg='']</p>
CATEGORIES:Recht interdisziplinär
LOCATION:Inland
GEO:0.000000;0.000000
ORGANIZER;CN="ViFa-Recht":MAILTO:vifa-recht@sbb.spk-berlin.de
URL;VALUE=URI:https://events.intrecht.de/termine/termin/frankfurter-rechtsh
 istorische-abendgespraeche-erbrechtliche-konsequenzen-der-abkehr-vom-christ
 lichen-glauben-spaetantike-apostasiegesetzgebung-am-beispiel-von-c-th-16-7-
 2-383/
END:VEVENT
BEGIN:VTIMEZONE
TZID:Europe/Berlin
BEGIN:DAYLIGHT
TZOFFSETFROM:+0100
TZOFFSETTO:+0200
DTSTART:20230326T010000
TZNAME:CEST
END:DAYLIGHT
END:VTIMEZONE
END:VCALENDAR
