BEGIN:VCALENDAR
VERSION:2.0
PRODID:-//Events | FID-Recht//NONSGML Events//EN
CALSCALE:GREGORIAN
X-ORIGINAL-URL:https://events.intrecht.de/termine/
X-WR-CALDESC:Events | FID-Recht - Events
BEGIN:VEVENT
UID:20200630T1951Z-1593546708.3195-EO-926-1@172.16.200.141
STATUS:CONFIRMED
DTSTAMP:20260422T193818Z
CREATED:20200604T175520Z
LAST-MODIFIED:20200604T182824Z
DTSTART;VALUE=DATE:20210902
DTEND;VALUE=DATE:20210905
SUMMARY: FRANKENLAW – Community Division Modernity / Critical Legal Confere
 nce (CLC) 2021 (Konferenz)
DESCRIPTION: 2.-4.9.2021\, Dundee  (Call for streams will open later in 202
 0) https://clc2020.org/  
X-ALT-DESC;FMTTYPE=text/html: <p><span style="display: inline !important\; 
 float: none\; background-color: #ffffff\; color: #333333\; cursor: text\; f
 ont-family: Georgia\,'Times New Roman'\,'Bitstream Charter'\,Times\,serif\;
  font-size: 16px\; font-style: normal\; font-variant: normal\; font-weight:
  400\; letter-spacing: normal\; orphans: 2\; text-align: left\; text-decora
 tion: none\; text-indent: 0px\; text-transform: none\; -webkit-text-stroke-
 width: 0px\; white-space: normal\; word-spacing: 0px\;">2.-4.9.2021</span>\
 , Dundee  (Call for streams will open later in 2020)</p><p><a href="https:/
 /clc2020.org/">https://clc2020.org/</a></p><p> </p><p>[av_button label='iCa
 l-Export' link='./feed/eo-events' link_target='' size='small' position='cen
 ter' label_display='' title_attr='' icon_select='yes' icon='ue85b' font='en
 typo-fontello' color='custom' custom_bg='#b5123e' custom_font='#ffffff' av_
 uid='' id='' custom_class='' admin_preview_bg='']</p>
CATEGORIES:Recht interdisziplinär
LOCATION:Ausland
GEO:0.000000;0.000000
ORGANIZER;CN="ViFa-Recht":MAILTO:vifa-recht@sbb.spk-berlin.de
URL;VALUE=URI:https://events.intrecht.de/termine/termin/frankenlaw-communit
 y-division-modernity-critical-legal-conference-clc-2021-konferenz/
END:VEVENT
BEGIN:VTIMEZONE
TZID:Europe/Berlin
BEGIN:DAYLIGHT
TZOFFSETFROM:+0100
TZOFFSETTO:+0200
DTSTART:20210328T010000
TZNAME:CEST
END:DAYLIGHT
END:VTIMEZONE
END:VCALENDAR
