BEGIN:VCALENDAR
VERSION:2.0
PRODID:-//Events | FID-Recht//NONSGML Events//EN
CALSCALE:GREGORIAN
X-ORIGINAL-URL:https://events.intrecht.de/termine/
X-WR-CALDESC:Events | FID-Recht - Events
BEGIN:VEVENT
UID:20221101T1320Z-1667308855.8965-EO-6869-1@172.16.200.151
STATUS:CONFIRMED
DTSTAMP:20260421T152139Z
CREATED:20221031T140125Z
LAST-MODIFIED:20221031T140218Z
DTSTART;VALUE=DATE:20221130
DTEND;VALUE=DATE:20221201
SUMMARY: Francis Lieber Lecture on International Law – Von den völkerrechtl
 ichen Fesseln befreit? Zur Rolle des Rechts in der „neuen Weltunordnung“ (V
 ortrag)
DESCRIPTION: 30.11.2022 / Jena https://voelkerrechtsblog.org/events/francis
 -lieber-lecture-on-international-law/  
X-ALT-DESC;FMTTYPE=text/html: <p>30.11.2022 / Jena</p><p><a href="https://v
 oelkerrechtsblog.org/events/francis-lieber-lecture-on-international-law/">h
 ttps://voelkerrechtsblog.org/events/francis-lieber-lecture-on-international
 -law/</a></p><p> </p><p>[av_button label='iCal-Export' link='./feed/eo-even
 ts' link_target='' size='small' position='center' label_display='' title_at
 tr='' icon_select='yes' icon='ue85b' font='entypo-fontello' color='custom' 
 custom_bg='#b5123e' custom_font='#ffffff' av_uid='' id='' custom_class='' a
 dmin_preview_bg='']</p>
CATEGORIES:Europäisches / Internationales Recht
LOCATION:Inland
GEO:0.000000;0.000000
ORGANIZER;CN="ViFa-Recht":MAILTO:vifa-recht@sbb.spk-berlin.de
URL;VALUE=URI:https://events.intrecht.de/termine/termin/francis-lieber-lect
 ure-on-international-law-von-den-voelkerrechtlichen-fesseln-befreit-zur-rol
 le-des-rechts-in-der-neuen-weltunordnung-vortrag/
END:VEVENT
BEGIN:VTIMEZONE
TZID:Europe/Berlin
BEGIN:STANDARD
TZOFFSETFROM:+0200
TZOFFSETTO:+0100
DTSTART:20221030T010000
TZNAME:CET
END:STANDARD
END:VTIMEZONE
END:VCALENDAR
