BEGIN:VCALENDAR
VERSION:2.0
PRODID:-//Events | FID-Recht//NONSGML Events//EN
CALSCALE:GREGORIAN
X-ORIGINAL-URL:https://events.intrecht.de/termine/
X-WR-CALDESC:Events | FID-Recht - Events
BEGIN:VEVENT
UID:20200603T1418Z-1591193923.3362-EO-587-1@172.16.200.141
STATUS:CONFIRMED
DTSTAMP:20260425T132525Z
CREATED:20230425T094144Z
LAST-MODIFIED:20230425T094144Z
DTSTART;VALUE=DATE:20231116
DTEND;VALUE=DATE:20231118
SUMMARY: Frames of European Human Rights – How are climate change\, migrati
 on\, and authoritarianism framed within the Council of Europe? (Workshop)
DESCRIPTION: 16.-17.11.2023 / Berlin (Frist für Einreichungen: 23.6.2023) h
 ttps://www.hertie-school.org/en/events/event-detail/event/workshop-frames-o
 f-european-human-rights-how-are-climate-change-migration-and-authoritariani
 sm-framed-within-the-council-of-europe
X-ALT-DESC;FMTTYPE=text/html: <p>16.-17.11.2023 / Berlin <strong>(Frist für
  Einreichungen: 23.6.2023)</strong></p><p><a href="https://www.hertie-schoo
 l.org/en/events/event-detail/event/workshop-frames-of-european-human-rights
 -how-are-climate-change-migration-and-authoritarianism-framed-within-the-co
 uncil-of-europe">https://www.hertie-school.org/en/events/event-detail/event
 /workshop-frames-of-european-human-rights-how-are-climate-change-migration-
 and-authoritarianism-framed-within-the-council-of-europe</a></p><p>[av_butt
 on label='iCal-Export' link='./feed/eo-events' link_target='' size='small' 
 position='center' label_display='' title_attr='' icon_select='yes' icon='ue
 85b' font='entypo-fontello' color='custom' custom_bg='#b5123e' custom_font=
 '#ffffff' av_uid='' id='' custom_class='' admin_preview_bg='']</p>
CATEGORIES:Europäisches / Internationales Recht
LOCATION:Inland
GEO:0.000000;0.000000
ORGANIZER;CN="ViFa-Recht":MAILTO:vifa-recht@sbb.spk-berlin.de
URL;VALUE=URI:https://events.intrecht.de/termine/termin/frames-of-european-
 human-rights-how-are-climate-change-migration-and-authoritarianism-framed-w
 ithin-the-council-of-europe-workshop/
END:VEVENT
BEGIN:VTIMEZONE
TZID:Europe/Berlin
BEGIN:STANDARD
TZOFFSETFROM:+0200
TZOFFSETTO:+0100
DTSTART:20231029T010000
TZNAME:CET
END:STANDARD
END:VTIMEZONE
END:VCALENDAR
