BEGIN:VCALENDAR
VERSION:2.0
PRODID:-//Events | FID-Recht//NONSGML Events//EN
CALSCALE:GREGORIAN
X-ORIGINAL-URL:https://events.intrecht.de/termine/
X-WR-CALDESC:Events | FID-Recht - Events
BEGIN:VEVENT
UID:20200603T1418Z-1591193923.3362-EO-587-1@172.16.200.141
STATUS:CONFIRMED
DTSTAMP:20260425T164456Z
CREATED:20230330T093125Z
LAST-MODIFIED:20230330T093125Z
DTSTART;VALUE=DATE:20230426
DTEND;VALUE=DATE:20230428
SUMMARY: Fraktalität (Workshop)
DESCRIPTION: 26.-27.4.2023 / Münster https://www.uni-muenster.de/imperia/md
 /content/EViR/plakat_konzeptforum_fraktalitat_web.pdf
X-ALT-DESC;FMTTYPE=text/html: <p>26.-27.4.2023 / Münster</p><p><a href="htt
 ps://www.uni-muenster.de/imperia/md/content/EViR/plakat_konzeptforum_frakta
 litat_web.pdf">https://www.uni-muenster.de/imperia/md/content/EViR/plakat_k
 onzeptforum_fraktalitat_web.pdf</a></p><p>[av_button label='iCal-Export' li
 nk='./feed/eo-events' link_target='' size='small' position='center' label_d
 isplay='' title_attr='' icon_select='yes' icon='ue85b' font='entypo-fontell
 o' color='custom' custom_bg='#b5123e' custom_font='#ffffff' av_uid='' id=''
  custom_class='' admin_preview_bg='']</p>
CATEGORIES:Recht interdisziplinär
LOCATION:Inland
GEO:0.000000;0.000000
ORGANIZER;CN="ViFa-Recht":MAILTO:vifa-recht@sbb.spk-berlin.de
URL;VALUE=URI:https://events.intrecht.de/termine/termin/fraktalitaet-worksh
 op/
END:VEVENT
BEGIN:VTIMEZONE
TZID:Europe/Berlin
BEGIN:DAYLIGHT
TZOFFSETFROM:+0100
TZOFFSETTO:+0200
DTSTART:20230326T010000
TZNAME:CEST
END:DAYLIGHT
END:VTIMEZONE
END:VCALENDAR
