BEGIN:VCALENDAR
VERSION:2.0
PRODID:-//Events | FID-Recht//NONSGML Events//EN
CALSCALE:GREGORIAN
X-ORIGINAL-URL:https://events.intrecht.de/termine/
X-WR-CALDESC:Events | FID-Recht - Events
BEGIN:VEVENT
UID:20230420T1117Z-1681989438.4527-EO-8101-1@172.16.200.151
STATUS:CONFIRMED
DTSTAMP:20260425T201209Z
CREATED:20230123T121724Z
LAST-MODIFIED:20230123T121724Z
DTSTART;VALUE=DATE:20230607
DTEND;VALUE=DATE:20230610
SUMMARY: Fourth annual workshop for PhD researchers and early career resear
 chers: Research methods in fundamental rights
DESCRIPTION: 7.-9.6.2023 / Online und Berlin (Bewerbungsfrist: 20.3.2023) h
 ttps://www.hertie-school.org/en/events/workshop-research-methods-in-fundame
 ntal-rights-2-1  
X-ALT-DESC;FMTTYPE=text/html: <p>7.-9.6.2023 / Online und Berlin<strong> (B
 ewerbungsfrist:</strong> <strong>20.3.2023)</strong></p><p><a href="https:/
 /www.hertie-school.org/en/events/workshop-research-methods-in-fundamental-r
 ights-2-1">https://www.hertie-school.org/en/events/workshop-research-method
 s-in-fundamental-rights-2-1</a></p><p> </p><p>[av_button label='iCal-Export
 ' link='./feed/eo-events' link_target='' size='small' position='center' lab
 el_display='' title_attr='' icon_select='yes' icon='ue85b' font='entypo-fon
 tello' color='custom' custom_bg='#b5123e' custom_font='#ffffff' av_uid='' i
 d='' custom_class='' admin_preview_bg='']</p>
CATEGORIES:Europäisches / Internationales Recht
LOCATION:Online
GEO:0.000000;0.000000
ORGANIZER;CN="ViFa-Recht":MAILTO:vifa-recht@sbb.spk-berlin.de
URL;VALUE=URI:https://events.intrecht.de/termine/termin/fourth-annual-works
 hop-for-phd-researchers-and-early-career-researchers-research-methods-in-fu
 ndamental-rights/
END:VEVENT
BEGIN:VTIMEZONE
TZID:Europe/Berlin
BEGIN:DAYLIGHT
TZOFFSETFROM:+0100
TZOFFSETTO:+0200
DTSTART:20230326T010000
TZNAME:CEST
END:DAYLIGHT
END:VTIMEZONE
END:VCALENDAR
