BEGIN:VCALENDAR
VERSION:2.0
PRODID:-//Events | FID-Recht//NONSGML Events//EN
CALSCALE:GREGORIAN
X-ORIGINAL-URL:https://events.intrecht.de/termine/
X-WR-CALDESC:Events | FID-Recht - Events
BEGIN:VEVENT
UID:20200928T0019Z-1601252369.0391-EO-1522-1@172.16.200.141
STATUS:CONFIRMED
DTSTAMP:20260422T175436Z
CREATED:20200922T164708Z
LAST-MODIFIED:20200922T164708Z
DTSTART;VALUE=DATE:20200914
DTEND;VALUE=DATE:20200916
SUMMARY: Forum Sozialethik 2020: Alles\, was (ge)recht ist? Das Verhältnis 
 von Ethik und Recht als Herausforderung der Christlichen Sozialethik (Konfe
 renz)
DESCRIPTION: 14.-15.9.2020\, Schwerte https://forum-sozialethik.de/wp-conte
 nt/uploads/2020/07/Einladung-und-Programm-Forum-Sozialethik-2020.pdf  
X-ALT-DESC;FMTTYPE=text/html: <p>14.-15.9.2020\, Schwerte</p><p><a href="ht
 tps://forum-sozialethik.de/wp-content/uploads/2020/07/Einladung-und-Program
 m-Forum-Sozialethik-2020.pdf">https://forum-sozialethik.de/wp-content/uploa
 ds/2020/07/Einladung-und-Programm-Forum-Sozialethik-2020.pdf</a></p><p> </p
 ><p>[av_button label='iCal-Export' link='./feed/eo-events' link_target='' s
 ize='small' position='center' label_display='' title_attr='' icon_select='y
 es' icon='ue85b' font='entypo-fontello' color='custom' custom_bg='#b5123e' 
 custom_font='#ffffff' av_uid='' id='' custom_class='' admin_preview_bg='']<
 /p>
CATEGORIES:Recht interdisziplinär
LOCATION:Inland
GEO:0.000000;0.000000
ORGANIZER;CN="ViFa-Recht":MAILTO:vifa-recht@sbb.spk-berlin.de
URL;VALUE=URI:https://events.intrecht.de/termine/termin/forum-sozialethik-2
 020-alles-was-gerecht-ist-das-verhaeltnis-von-ethik-und-recht-als-herausfor
 derung-der-christlichen-sozialethik-konferenz/
END:VEVENT
BEGIN:VTIMEZONE
TZID:Europe/Berlin
BEGIN:DAYLIGHT
TZOFFSETFROM:+0100
TZOFFSETTO:+0200
DTSTART:20200329T010000
TZNAME:CEST
END:DAYLIGHT
END:VTIMEZONE
END:VCALENDAR
